| Back to Build/check report for BioC 3.12 experimental data |
|
This page was generated on 2021-05-06 14:10:13 -0400 (Thu, 06 May 2021).
|
To the developers/maintainers of the pumadata package: Please make sure to use the following settings in order to reproduce any error or warning you see on this page. |
| Package 289/398 | Hostname | OS / Arch | INSTALL | BUILD | CHECK | ||||||||
| pumadata 2.26.0 (landing page) Xuejun liu
| malbec1 | Linux (Ubuntu 18.04.5 LTS) / x86_64 | OK | OK | OK | ||||||||
| Package: pumadata |
| Version: 2.26.0 |
| Command: /home/biocbuild/bbs-3.12-bioc/R/bin/R CMD check --install=check:pumadata.install-out.txt --library=/home/biocbuild/bbs-3.12-bioc/R/library --no-vignettes --timings pumadata_2.26.0.tar.gz |
| StartedAt: 2021-05-06 12:33:46 -0400 (Thu, 06 May 2021) |
| EndedAt: 2021-05-06 12:36:44 -0400 (Thu, 06 May 2021) |
| EllapsedTime: 178.5 seconds |
| RetCode: 0 |
| Status: OK |
| CheckDir: pumadata.Rcheck |
| Warnings: 0 |
##############################################################################
##############################################################################
###
### Running command:
###
### /home/biocbuild/bbs-3.12-bioc/R/bin/R CMD check --install=check:pumadata.install-out.txt --library=/home/biocbuild/bbs-3.12-bioc/R/library --no-vignettes --timings pumadata_2.26.0.tar.gz
###
##############################################################################
##############################################################################
* using log directory ‘/home/biocbuild/bbs-3.12-data-experiment/meat/pumadata.Rcheck’
* using R version 4.0.5 (2021-03-31)
* using platform: x86_64-pc-linux-gnu (64-bit)
* using session charset: UTF-8
* using option ‘--no-vignettes’
* checking for file ‘pumadata/DESCRIPTION’ ... OK
* checking extension type ... Package
* this is package ‘pumadata’ version ‘2.26.0’
* checking package namespace information ... OK
* checking package dependencies ... OK
* checking if this is a source package ... OK
* checking if there is a namespace ... OK
* checking for hidden files and directories ... OK
* checking for portable file names ... OK
* checking for sufficient/correct file permissions ... OK
* checking whether package ‘pumadata’ can be installed ... OK
* checking installed package size ... NOTE
installed size is 105.0Mb
sub-directories of 1Mb or more:
data 104.9Mb
* checking package directory ... OK
* checking ‘build’ directory ... OK
* checking DESCRIPTION meta-information ... OK
* checking top-level files ... OK
* checking for left-over files ... OK
* checking index information ... OK
* checking package subdirectories ... OK
* checking R files for non-ASCII characters ... OK
* checking R files for syntax errors ... OK
* checking whether the package can be loaded ... OK
* checking whether the package can be loaded with stated dependencies ... OK
* checking whether the package can be unloaded cleanly ... OK
* checking whether the namespace can be loaded with stated dependencies ... OK
* checking whether the namespace can be unloaded cleanly ... OK
* checking dependencies in R code ... OK
* checking S3 generic/method consistency ... OK
* checking replacement functions ... OK
* checking foreign function calls ... OK
* checking R code for possible problems ... OK
* checking Rd files ... OK
* checking Rd metadata ... OK
* checking Rd cross-references ... OK
* checking for missing documentation entries ... OK
* checking for code/documentation mismatches ... OK
* checking Rd \usage sections ... OK
* checking Rd contents ... OK
* checking for unstated dependencies in examples ... OK
* checking contents of ‘data’ directory ... OK
* checking data for non-ASCII characters ... OK
* checking data for ASCII and uncompressed saves ... OK
* checking files in ‘vignettes’ ... OK
* checking examples ... OK
* checking for unstated dependencies in vignettes ... OK
* checking package vignettes in ‘inst/doc’ ... OK
* checking running R code from vignettes ... SKIPPED
* checking re-building of vignette outputs ... SKIPPED
* checking PDF version of manual ... OK
* DONE
Status: 1 NOTE
See
‘/home/biocbuild/bbs-3.12-data-experiment/meat/pumadata.Rcheck/00check.log’
for details.
pumadata.Rcheck/00install.out
############################################################################## ############################################################################## ### ### Running command: ### ### /home/biocbuild/bbs-3.12-bioc/R/bin/R CMD INSTALL pumadata ### ############################################################################## ############################################################################## * installing to library ‘/home/biocbuild/bbs-3.12-bioc/R/library’ * installing *source* package ‘pumadata’ ... ** using staged installation ** R ** data ** byte-compile and prepare package for lazy loading ** help *** installing help indices ** building package indices ** installing vignettes ** testing if installed package can be loaded from temporary location ** testing if installed package can be loaded from final location ** testing if installed package keeps a record of temporary installation path * DONE (pumadata)
pumadata.Rcheck/pumadata-Ex.timings
| name | user | system | elapsed | |
| eset_estrogen_comb | 0.084 | 0.000 | 0.086 | |
| eset_estrogen_mmgmos | 0.096 | 0.004 | 0.100 | |
| eset_estrogen_pmmmgmos | 0.104 | 0.008 | 0.111 | |
| eset_estrogen_rma | 0.028 | 0.000 | 0.025 | |
| pumapca_estrogen | 0.004 | 0.000 | 0.007 | |