| Back to Build/check report for BioC 3.12 experimental data |
|
This page was generated on 2021-05-06 14:10:12 -0400 (Thu, 06 May 2021).
|
To the developers/maintainers of the prebsdata package: Please make sure to use the following settings in order to reproduce any error or warning you see on this page. |
| Package 279/398 | Hostname | OS / Arch | INSTALL | BUILD | CHECK | ||||||||
| prebsdata 1.26.0 (landing page) Karolis Uziela
| malbec1 | Linux (Ubuntu 18.04.5 LTS) / x86_64 | OK | OK | OK | ||||||||
| Package: prebsdata |
| Version: 1.26.0 |
| Command: /home/biocbuild/bbs-3.12-bioc/R/bin/R CMD build --keep-empty-dirs --no-resave-data prebsdata |
| StartedAt: 2021-05-06 11:12:43 -0400 (Thu, 06 May 2021) |
| EndedAt: 2021-05-06 11:13:07 -0400 (Thu, 06 May 2021) |
| EllapsedTime: 24.1 seconds |
| RetCode: 0 |
| Status: OK |
| PackageFile: prebsdata_1.26.0.tar.gz |
| PackageFileSize: 23.53 MiB |
############################################################################## ############################################################################## ### ### Running command: ### ### /home/biocbuild/bbs-3.12-bioc/R/bin/R CMD build --keep-empty-dirs --no-resave-data prebsdata ### ############################################################################## ############################################################################## * checking for file ‘prebsdata/DESCRIPTION’ ... OK * preparing ‘prebsdata’: * checking DESCRIPTION meta-information ... OK * installing the package to build vignettes * creating vignettes ... OK * checking for LF line-endings in source and make files and shell scripts * checking for empty or unneeded directories * building ‘prebsdata_1.26.0.tar.gz’