| Back to Build/check report for BioC 3.12 experimental data |
|
This page was generated on 2021-05-06 14:10:12 -0400 (Thu, 06 May 2021).
|
To the developers/maintainers of the pRolocdata package: Please make sure to use the following settings in order to reproduce any error or warning you see on this page. |
| Package 282/398 | Hostname | OS / Arch | INSTALL | BUILD | CHECK | ||||||||
| pRolocdata 1.28.0 (landing page) Laurent Gatto
| malbec1 | Linux (Ubuntu 18.04.5 LTS) / x86_64 | OK | OK | OK | ||||||||
| Package: pRolocdata |
| Version: 1.28.0 |
| Command: /home/biocbuild/bbs-3.12-bioc/R/bin/R CMD check --install=check:pRolocdata.install-out.txt --library=/home/biocbuild/bbs-3.12-bioc/R/library --no-vignettes --timings pRolocdata_1.28.0.tar.gz |
| StartedAt: 2021-05-06 12:32:32 -0400 (Thu, 06 May 2021) |
| EndedAt: 2021-05-06 12:36:28 -0400 (Thu, 06 May 2021) |
| EllapsedTime: 236.9 seconds |
| RetCode: 0 |
| Status: OK |
| CheckDir: pRolocdata.Rcheck |
| Warnings: 0 |
##############################################################################
##############################################################################
###
### Running command:
###
### /home/biocbuild/bbs-3.12-bioc/R/bin/R CMD check --install=check:pRolocdata.install-out.txt --library=/home/biocbuild/bbs-3.12-bioc/R/library --no-vignettes --timings pRolocdata_1.28.0.tar.gz
###
##############################################################################
##############################################################################
* using log directory ‘/home/biocbuild/bbs-3.12-data-experiment/meat/pRolocdata.Rcheck’
* using R version 4.0.5 (2021-03-31)
* using platform: x86_64-pc-linux-gnu (64-bit)
* using session charset: UTF-8
* using option ‘--no-vignettes’
* checking for file ‘pRolocdata/DESCRIPTION’ ... OK
* checking extension type ... Package
* this is package ‘pRolocdata’ version ‘1.28.0’
* package encoding: UTF-8
* checking package namespace information ... OK
* checking package dependencies ... OK
* checking if this is a source package ... OK
* checking if there is a namespace ... OK
* checking for hidden files and directories ... OK
* checking for portable file names ... OK
* checking for sufficient/correct file permissions ... OK
* checking whether package ‘pRolocdata’ can be installed ... OK
* checking installed package size ... NOTE
installed size is 304.2Mb
sub-directories of 1Mb or more:
data 70.3Mb
extdata 233.4Mb
* checking package directory ... OK
* checking DESCRIPTION meta-information ... OK
* checking top-level files ... OK
* checking for left-over files ... OK
* checking index information ... OK
* checking package subdirectories ... OK
* checking R files for non-ASCII characters ... OK
* checking R files for syntax errors ... OK
* checking whether the package can be loaded ... OK
* checking whether the package can be loaded with stated dependencies ... OK
* checking whether the package can be unloaded cleanly ... OK
* checking whether the namespace can be loaded with stated dependencies ... OK
* checking whether the namespace can be unloaded cleanly ... OK
* checking dependencies in R code ... OK
* checking S3 generic/method consistency ... OK
* checking replacement functions ... OK
* checking foreign function calls ... OK
* checking R code for possible problems ... OK
* checking Rd files ... OK
* checking Rd metadata ... OK
* checking Rd cross-references ... OK
* checking for missing documentation entries ... OK
* checking for code/documentation mismatches ... OK
* checking Rd \usage sections ... OK
* checking Rd contents ... OK
* checking for unstated dependencies in examples ... OK
* checking contents of ‘data’ directory ... OK
* checking data for non-ASCII characters ... OK
* checking data for ASCII and uncompressed saves ... OK
* checking examples ... OK
Examples with CPU (user + system) or elapsed time > 5s
user system elapsed
krahmer2018pcp 9.356 0.136 9.505
Shin2020 4.864 0.220 9.045
* checking for unstated dependencies in ‘tests’ ... OK
* checking tests ...
Running ‘testthat.R’
OK
* checking PDF version of manual ... OK
* DONE
Status: 1 NOTE
See
‘/home/biocbuild/bbs-3.12-data-experiment/meat/pRolocdata.Rcheck/00check.log’
for details.
pRolocdata.Rcheck/00install.out
############################################################################## ############################################################################## ### ### Running command: ### ### /home/biocbuild/bbs-3.12-bioc/R/bin/R CMD INSTALL pRolocdata ### ############################################################################## ############################################################################## * installing to library ‘/home/biocbuild/bbs-3.12-bioc/R/library’ * installing *source* package ‘pRolocdata’ ... ** using staged installation ** R ** data ** inst ** byte-compile and prepare package for lazy loading ** help *** installing help indices ** building package indices ** testing if installed package can be loaded from temporary location ** testing if installed package can be loaded from final location ** testing if installed package keeps a record of temporary installation path * DONE (pRolocdata)
pRolocdata.Rcheck/tests/testthat.Rout
R version 4.0.5 (2021-03-31) -- "Shake and Throw"
Copyright (C) 2021 The R Foundation for Statistical Computing
Platform: x86_64-pc-linux-gnu (64-bit)
R is free software and comes with ABSOLUTELY NO WARRANTY.
You are welcome to redistribute it under certain conditions.
Type 'license()' or 'licence()' for distribution details.
R is a collaborative project with many contributors.
Type 'contributors()' for more information and
'citation()' on how to cite R or R packages in publications.
Type 'demo()' for some demos, 'help()' for on-line help, or
'help.start()' for an HTML browser interface to help.
Type 'q()' to quit R.
> # setting R_TESTS to empty string because of
> # https://github.com/hadley/testthat/issues/144
> # revert this when that issue in R is fixed.
> Sys.setenv("R_TESTS" = "")
> library(testthat)
> library(MSnbase)
Loading required package: BiocGenerics
Loading required package: parallel
Attaching package: 'BiocGenerics'
The following objects are masked from 'package:parallel':
clusterApply, clusterApplyLB, clusterCall, clusterEvalQ,
clusterExport, clusterMap, parApply, parCapply, parLapply,
parLapplyLB, parRapply, parSapply, parSapplyLB
The following objects are masked from 'package:stats':
IQR, mad, sd, var, xtabs
The following objects are masked from 'package:base':
Filter, Find, Map, Position, Reduce, anyDuplicated, append,
as.data.frame, basename, cbind, colnames, dirname, do.call,
duplicated, eval, evalq, get, grep, grepl, intersect, is.unsorted,
lapply, mapply, match, mget, order, paste, pmax, pmax.int, pmin,
pmin.int, rank, rbind, rownames, sapply, setdiff, sort, table,
tapply, union, unique, unsplit, which.max, which.min
Loading required package: Biobase
Welcome to Bioconductor
Vignettes contain introductory material; view with
'browseVignettes()'. To cite Bioconductor, see
'citation("Biobase")', and for packages 'citation("pkgname")'.
Loading required package: mzR
Loading required package: Rcpp
Loading required package: S4Vectors
Loading required package: stats4
Attaching package: 'S4Vectors'
The following object is masked from 'package:base':
expand.grid
Loading required package: ProtGenerics
Attaching package: 'ProtGenerics'
The following object is masked from 'package:stats':
smooth
This is MSnbase version 2.16.1
Visit https://lgatto.github.io/MSnbase/ to get started.
Attaching package: 'MSnbase'
The following object is masked from 'package:base':
trimws
> library(pRolocdata)
This is pRolocdata version 1.28.0.
Use 'pRolocdata()' to list available data sets.
>
> test_check("pRolocdata")
[ FAIL 0 | WARN 0 | SKIP 0 | PASS 108 ]
>
> proc.time()
user system elapsed
17.252 0.476 17.935
pRolocdata.Rcheck/pRolocdata-Ex.timings
| name | user | system | elapsed | |
| E14TG2a | 0.032 | 0.012 | 0.043 | |
| Shin2020 | 4.864 | 0.220 | 9.045 | |
| ToxoLopit | 0.572 | 0.016 | 0.589 | |
| andreyev2010 | 1.140 | 0.036 | 1.201 | |
| andy2011 | 0.052 | 0.004 | 0.058 | |
| at_chloro | 0.084 | 0.008 | 0.092 | |
| baers2018 | 0.376 | 0.008 | 0.385 | |
| beltran2016 | 0.564 | 0.004 | 0.567 | |
| davies2018 | 0.292 | 0.004 | 0.297 | |
| dunkley2006 | 0.012 | 0.000 | 0.012 | |
| fabre2015 | 0.284 | 0.000 | 0.287 | |
| foster2006 | 0.032 | 0.000 | 0.032 | |
| groen2014 | 2.100 | 0.004 | 2.106 | |
| hall2009 | 0.184 | 0.000 | 0.183 | |
| havugimana2012 | 0.128 | 0.016 | 0.148 | |
| hirst2018 | 0.520 | 0.008 | 0.532 | |
| hyperLOPIT2015 | 4.496 | 0.096 | 4.596 | |
| hyperLOPITU2OS2017 | 1.348 | 0.016 | 1.389 | |
| itzhak2016 | 0.672 | 0.004 | 0.674 | |
| itzhak2017 | 1.756 | 0.012 | 1.767 | |
| itzhak2017dynamic | 1.304 | 0.016 | 1.322 | |
| kirkwood2013 | 0.044 | 0.000 | 0.041 | |
| kozik2020 | 0.244 | 0.000 | 0.246 | |
| krahmer2018pcp | 9.356 | 0.136 | 9.505 | |
| kristensen2012 | 0.024 | 0.000 | 0.023 | |
| lopimsSyn2 | 0.648 | 0.004 | 0.652 | |
| mulvey2015 | 3.068 | 0.056 | 3.126 | |
| nikolovski2012 | 0.316 | 0.004 | 0.319 | |
| nikolovski2014 | 0.392 | 0.012 | 0.405 | |
| orre2019 | 0.440 | 0.008 | 0.449 | |
| pRolocdata | 0.024 | 0.024 | 0.360 | |
| pRolocmetadata | 0.012 | 0.004 | 0.016 | |
| rodriguez2012r1 | 0.716 | 0.020 | 0.785 | |
| stekhoven2014 | 0.252 | 0.004 | 0.255 | |
| tan2009 | 0.020 | 0.000 | 0.017 | |
| trotter2010 | 0.324 | 0.020 | 0.344 | |
| yeast | 0.416 | 0.032 | 0.449 | |