| Back to Build/check report for BioC 3.12 experimental data |
|
This page was generated on 2021-05-06 14:10:11 -0400 (Thu, 06 May 2021).
|
To the developers/maintainers of the minfiDataEPIC package: Please make sure to use the following settings in order to reproduce any error or warning you see on this page. |
| Package 230/398 | Hostname | OS / Arch | INSTALL | BUILD | CHECK | ||||||||
| minfiDataEPIC 1.16.0 (landing page) Kasper Daniel Hansen
| malbec1 | Linux (Ubuntu 18.04.5 LTS) / x86_64 | OK | OK | OK | ||||||||
| Package: minfiDataEPIC |
| Version: 1.16.0 |
| Command: /home/biocbuild/bbs-3.12-bioc/R/bin/R CMD check --install=check:minfiDataEPIC.install-out.txt --library=/home/biocbuild/bbs-3.12-bioc/R/library --no-vignettes --timings minfiDataEPIC_1.16.0.tar.gz |
| StartedAt: 2021-05-06 12:23:42 -0400 (Thu, 06 May 2021) |
| EndedAt: 2021-05-06 12:26:25 -0400 (Thu, 06 May 2021) |
| EllapsedTime: 163.0 seconds |
| RetCode: 0 |
| Status: OK |
| CheckDir: minfiDataEPIC.Rcheck |
| Warnings: 0 |
##############################################################################
##############################################################################
###
### Running command:
###
### /home/biocbuild/bbs-3.12-bioc/R/bin/R CMD check --install=check:minfiDataEPIC.install-out.txt --library=/home/biocbuild/bbs-3.12-bioc/R/library --no-vignettes --timings minfiDataEPIC_1.16.0.tar.gz
###
##############################################################################
##############################################################################
* using log directory ‘/home/biocbuild/bbs-3.12-data-experiment/meat/minfiDataEPIC.Rcheck’
* using R version 4.0.5 (2021-03-31)
* using platform: x86_64-pc-linux-gnu (64-bit)
* using session charset: UTF-8
* using option ‘--no-vignettes’
* checking for file ‘minfiDataEPIC/DESCRIPTION’ ... OK
* this is package ‘minfiDataEPIC’ version ‘1.16.0’
* checking package namespace information ... OK
* checking package dependencies ... OK
* checking if this is a source package ... OK
* checking if there is a namespace ... OK
* checking for hidden files and directories ... OK
* checking for portable file names ... OK
* checking for sufficient/correct file permissions ... OK
* checking whether package ‘minfiDataEPIC’ can be installed ... OK
* checking installed package size ... NOTE
installed size is 169.2Mb
sub-directories of 1Mb or more:
data 90.7Mb
extdata 78.3Mb
* checking package directory ... OK
* checking DESCRIPTION meta-information ... OK
* checking top-level files ... OK
* checking for left-over files ... OK
* checking index information ... OK
* checking package subdirectories ... OK
* checking whether the package can be loaded ... OK
* checking whether the package can be loaded with stated dependencies ... OK
* checking whether the package can be unloaded cleanly ... OK
* checking whether the namespace can be loaded with stated dependencies ... OK
* checking whether the namespace can be unloaded cleanly ... OK
* checking Rd files ... OK
* checking Rd metadata ... OK
* checking Rd cross-references ... OK
* checking for missing documentation entries ... OK
* checking for code/documentation mismatches ... OK
* checking Rd \usage sections ... OK
* checking Rd contents ... OK
* checking for unstated dependencies in examples ... OK
* checking contents of ‘data’ directory ... OK
* checking data for non-ASCII characters ... OK
* checking data for ASCII and uncompressed saves ... OK
* checking examples ... OK
Examples with CPU (user + system) or elapsed time > 5s
user system elapsed
MsetEPIC 5.756 0.152 5.912
* checking PDF version of manual ... OK
* DONE
Status: 1 NOTE
See
‘/home/biocbuild/bbs-3.12-data-experiment/meat/minfiDataEPIC.Rcheck/00check.log’
for details.
minfiDataEPIC.Rcheck/00install.out
############################################################################## ############################################################################## ### ### Running command: ### ### /home/biocbuild/bbs-3.12-bioc/R/bin/R CMD INSTALL minfiDataEPIC ### ############################################################################## ############################################################################## * installing to library ‘/home/biocbuild/bbs-3.12-bioc/R/library’ * installing *source* package ‘minfiDataEPIC’ ... ** using staged installation ** data *** moving datasets to lazyload DB ** inst ** help *** installing help indices ** building package indices ** testing if installed package can be loaded from temporary location ** testing if installed package can be loaded from final location ** testing if installed package keeps a record of temporary installation path * DONE (minfiDataEPIC)
minfiDataEPIC.Rcheck/minfiDataEPIC-Ex.timings
| name | user | system | elapsed | |
| MsetEPIC | 5.756 | 0.152 | 5.912 | |
| RGsetEPIC | 3.316 | 0.120 | 3.440 | |