| Back to Build/check report for BioC 3.12 experimental data |
|
This page was generated on 2021-05-06 14:10:11 -0400 (Thu, 06 May 2021).
|
To the developers/maintainers of the leukemiasEset package: Please make sure to use the following settings in order to reproduce any error or warning you see on this page. |
| Package 200/398 | Hostname | OS / Arch | INSTALL | BUILD | CHECK | ||||||||
| leukemiasEset 1.26.0 (landing page) Sara Aibar
| malbec1 | Linux (Ubuntu 18.04.5 LTS) / x86_64 | OK | OK | OK | ||||||||
| Package: leukemiasEset |
| Version: 1.26.0 |
| Command: /home/biocbuild/bbs-3.12-bioc/R/bin/R CMD check --install=check:leukemiasEset.install-out.txt --library=/home/biocbuild/bbs-3.12-bioc/R/library --no-vignettes --timings leukemiasEset_1.26.0.tar.gz |
| StartedAt: 2021-05-06 12:17:19 -0400 (Thu, 06 May 2021) |
| EndedAt: 2021-05-06 12:17:40 -0400 (Thu, 06 May 2021) |
| EllapsedTime: 21.0 seconds |
| RetCode: 0 |
| Status: OK |
| CheckDir: leukemiasEset.Rcheck |
| Warnings: 0 |
##############################################################################
##############################################################################
###
### Running command:
###
### /home/biocbuild/bbs-3.12-bioc/R/bin/R CMD check --install=check:leukemiasEset.install-out.txt --library=/home/biocbuild/bbs-3.12-bioc/R/library --no-vignettes --timings leukemiasEset_1.26.0.tar.gz
###
##############################################################################
##############################################################################
* using log directory ‘/home/biocbuild/bbs-3.12-data-experiment/meat/leukemiasEset.Rcheck’
* using R version 4.0.5 (2021-03-31)
* using platform: x86_64-pc-linux-gnu (64-bit)
* using session charset: UTF-8
* using option ‘--no-vignettes’
* checking for file ‘leukemiasEset/DESCRIPTION’ ... OK
* checking extension type ... Package
* this is package ‘leukemiasEset’ version ‘1.26.0’
* checking package namespace information ... OK
* checking package dependencies ... OK
* checking if this is a source package ... OK
* checking if there is a namespace ... OK
* checking for hidden files and directories ... OK
* checking for portable file names ... OK
* checking for sufficient/correct file permissions ... OK
* checking whether package ‘leukemiasEset’ can be installed ... OK
* checking installed package size ... NOTE
installed size is 8.8Mb
sub-directories of 1Mb or more:
data 8.7Mb
* checking package directory ... OK
* checking DESCRIPTION meta-information ... NOTE
Malformed Title field: should not end in a period.
* checking top-level files ... OK
* checking for left-over files ... OK
* checking index information ... OK
* checking package subdirectories ... OK
* checking whether the package can be loaded ... OK
* checking whether the package can be loaded with stated dependencies ... OK
* checking whether the package can be unloaded cleanly ... OK
* checking whether the namespace can be loaded with stated dependencies ... OK
* checking whether the namespace can be unloaded cleanly ... OK
* checking Rd files ... OK
* checking Rd metadata ... OK
* checking Rd cross-references ... OK
* checking for missing documentation entries ... OK
* checking for code/documentation mismatches ... OK
* checking Rd \usage sections ... OK
* checking Rd contents ... OK
* checking for unstated dependencies in examples ... OK
* checking contents of ‘data’ directory ... OK
* checking data for non-ASCII characters ... OK
* checking data for ASCII and uncompressed saves ... OK
* checking examples ... OK
* checking PDF version of manual ... OK
* DONE
Status: 2 NOTEs
See
‘/home/biocbuild/bbs-3.12-data-experiment/meat/leukemiasEset.Rcheck/00check.log’
for details.
leukemiasEset.Rcheck/00install.out
############################################################################## ############################################################################## ### ### Running command: ### ### /home/biocbuild/bbs-3.12-bioc/R/bin/R CMD INSTALL leukemiasEset ### ############################################################################## ############################################################################## * installing to library ‘/home/biocbuild/bbs-3.12-bioc/R/library’ * installing *source* package ‘leukemiasEset’ ... ** using staged installation ** data ** help *** installing help indices ** building package indices ** testing if installed package can be loaded from temporary location ** testing if installed package can be loaded from final location ** testing if installed package keeps a record of temporary installation path * DONE (leukemiasEset)
leukemiasEset.Rcheck/leukemiasEset-Ex.timings
| name | user | system | elapsed | |
| leukemiasEset | 0.160 | 0.012 | 0.172 | |