| Back to Build/check report for BioC 3.12 experimental data |
|
This page was generated on 2021-05-06 14:10:10 -0400 (Thu, 06 May 2021).
|
To the developers/maintainers of the hapmap100kxba package: Please make sure to use the following settings in order to reproduce any error or warning you see on this page. |
| Package 158/398 | Hostname | OS / Arch | INSTALL | BUILD | CHECK | ||||||||
| hapmap100kxba 1.32.0 (landing page) Benilton Carvalho
| malbec1 | Linux (Ubuntu 18.04.5 LTS) / x86_64 | OK | OK | OK | ||||||||
| Package: hapmap100kxba |
| Version: 1.32.0 |
| Command: /home/biocbuild/bbs-3.12-bioc/R/bin/R CMD build --keep-empty-dirs --no-resave-data hapmap100kxba |
| StartedAt: 2021-05-06 10:54:04 -0400 (Thu, 06 May 2021) |
| EndedAt: 2021-05-06 10:54:53 -0400 (Thu, 06 May 2021) |
| EllapsedTime: 49.6 seconds |
| RetCode: 0 |
| Status: OK |
| PackageFile: hapmap100kxba_1.32.0.tar.gz |
| PackageFileSize: 38.99 MiB |
############################################################################## ############################################################################## ### ### Running command: ### ### /home/biocbuild/bbs-3.12-bioc/R/bin/R CMD build --keep-empty-dirs --no-resave-data hapmap100kxba ### ############################################################################## ############################################################################## * checking for file ‘hapmap100kxba/DESCRIPTION’ ... OK * preparing ‘hapmap100kxba’: * checking DESCRIPTION meta-information ... OK * checking for LF line-endings in source and make files and shell scripts * checking for empty or unneeded directories * building ‘hapmap100kxba_1.32.0.tar.gz’