| Back to Build/check report for BioC 3.12 experimental data |
|
This page was generated on 2021-05-06 14:10:09 -0400 (Thu, 06 May 2021).
|
To the developers/maintainers of the geuvStore2 package: Please make sure to use the following settings in order to reproduce any error or warning you see on this page. |
| Package 145/398 | Hostname | OS / Arch | INSTALL | BUILD | CHECK | ||||||||
VJ Carey
| malbec1 | Linux (Ubuntu 18.04.5 LTS) / x86_64 | ERROR | ERROR | skipped | ||||||||
| Package: geuvStore2 |
| Version: 1.20.0 |
| Command: /home/biocbuild/bbs-3.12-bioc/R/bin/R CMD build --keep-empty-dirs --no-resave-data geuvStore2 |
| StartedAt: 2021-05-06 10:53:28 -0400 (Thu, 06 May 2021) |
| EndedAt: 2021-05-06 10:53:35 -0400 (Thu, 06 May 2021) |
| EllapsedTime: 7.1 seconds |
| RetCode: 1 |
| Status: ERROR |
| PackageFile: None |
| PackageFileSize: NA |
##############################################################################
##############################################################################
###
### Running command:
###
### /home/biocbuild/bbs-3.12-bioc/R/bin/R CMD build --keep-empty-dirs --no-resave-data geuvStore2
###
##############################################################################
##############################################################################
* checking for file ‘geuvStore2/DESCRIPTION’ ... OK
* preparing ‘geuvStore2’:
* checking DESCRIPTION meta-information ... OK
* installing the package to process help pages
-----------------------------------
ERROR: dependency ‘gQTLBase’ is not available for package ‘geuvStore2’
* removing ‘/tmp/RtmpgluekI/Rinst2ee2d2ea1c9/geuvStore2’
-----------------------------------
ERROR: package installation failed