| Back to Build/check report for BioC 3.12 experimental data |
|
This page was generated on 2021-05-06 14:10:08 -0400 (Thu, 06 May 2021).
|
To the developers/maintainers of the flowPloidyData package: Please make sure to use the following settings in order to reproduce any error or warning you see on this page. |
| Package 126/398 | Hostname | OS / Arch | INSTALL | BUILD | CHECK | ||||||||
| flowPloidyData 1.16.0 (landing page) Tyler Smith
| malbec1 | Linux (Ubuntu 18.04.5 LTS) / x86_64 | OK | OK | OK | ||||||||
| Package: flowPloidyData |
| Version: 1.16.0 |
| Command: /home/biocbuild/bbs-3.12-bioc/R/bin/R CMD build --keep-empty-dirs --no-resave-data flowPloidyData |
| StartedAt: 2021-05-06 10:45:53 -0400 (Thu, 06 May 2021) |
| EndedAt: 2021-05-06 10:46:00 -0400 (Thu, 06 May 2021) |
| EllapsedTime: 7.7 seconds |
| RetCode: 0 |
| Status: OK |
| PackageFile: flowPloidyData_1.16.0.tar.gz |
| PackageFileSize: 7.099 MiB |
############################################################################## ############################################################################## ### ### Running command: ### ### /home/biocbuild/bbs-3.12-bioc/R/bin/R CMD build --keep-empty-dirs --no-resave-data flowPloidyData ### ############################################################################## ############################################################################## * checking for file ‘flowPloidyData/DESCRIPTION’ ... OK * preparing ‘flowPloidyData’: * checking DESCRIPTION meta-information ... OK * installing the package to build vignettes * creating vignettes ... OK * checking for LF line-endings in source and make files and shell scripts * checking for empty or unneeded directories * building ‘flowPloidyData_1.16.0.tar.gz’