| Back to Build/check report for BioC 3.12 experimental data | 
 | 
This page was generated on 2021-05-06 14:10:08 -0400 (Thu, 06 May 2021).
| To the developers/maintainers of the flowFitExampleData package: Please make sure to use the following settings in order to reproduce any error or warning you see on this page. | 
| Package 125/398 | Hostname | OS / Arch | INSTALL | BUILD | CHECK | ||||||||
| Davide Rambaldi 
 | malbec1 | Linux (Ubuntu 18.04.5 LTS) / x86_64 | OK | OK | WARNINGS |  | |||||||
| Package: flowFitExampleData | 
| Version: 1.26.0 | 
| Command: /home/biocbuild/bbs-3.12-bioc/R/bin/R CMD build --keep-empty-dirs --no-resave-data flowFitExampleData | 
| StartedAt: 2021-05-06 10:45:43 -0400 (Thu, 06 May 2021) | 
| EndedAt: 2021-05-06 10:45:52 -0400 (Thu, 06 May 2021) | 
| EllapsedTime: 9.5 seconds | 
| RetCode: 0 | 
| Status: OK | 
| PackageFile: flowFitExampleData_1.26.0.tar.gz | 
| PackageFileSize: 3.286 MiB | 
############################################################################## ############################################################################## ### ### Running command: ### ### /home/biocbuild/bbs-3.12-bioc/R/bin/R CMD build --keep-empty-dirs --no-resave-data flowFitExampleData ### ############################################################################## ############################################################################## * checking for file ‘flowFitExampleData/DESCRIPTION’ ... OK * preparing ‘flowFitExampleData’: * checking DESCRIPTION meta-information ... OK * installing the package to build vignettes * creating vignettes ... OK * checking for LF line-endings in source and make files and shell scripts * checking for empty or unneeded directories * looking to see if a ‘data/datalist’ file should be added * building ‘flowFitExampleData_1.26.0.tar.gz’