| Back to Build/check report for BioC 3.12 experimental data |
|
This page was generated on 2021-05-06 14:10:06 -0400 (Thu, 06 May 2021).
|
To the developers/maintainers of the ccdata package: Please make sure to use the following settings in order to reproduce any error or warning you see on this page. |
| Package 46/398 | Hostname | OS / Arch | INSTALL | BUILD | CHECK | ||||||||
| ccdata 1.16.0 (landing page) Alex Pickering
| malbec1 | Linux (Ubuntu 18.04.5 LTS) / x86_64 | OK | OK | WARNINGS | ||||||||
| Package: ccdata |
| Version: 1.16.0 |
| Command: /home/biocbuild/bbs-3.12-bioc/R/bin/R CMD INSTALL ccdata |
| StartedAt: 2021-05-06 09:55:49 -0400 (Thu, 06 May 2021) |
| EndedAt: 2021-05-06 09:56:14 -0400 (Thu, 06 May 2021) |
| EllapsedTime: 25.0 seconds |
| RetCode: 0 |
| Status: OK |
############################################################################## ############################################################################## ### ### Running command: ### ### /home/biocbuild/bbs-3.12-bioc/R/bin/R CMD INSTALL ccdata ### ############################################################################## ############################################################################## * installing to library ‘/home/biocbuild/bbs-3.12-bioc/R/library’ * installing *source* package ‘ccdata’ ... ** using staged installation ** R ** data ** byte-compile and prepare package for lazy loading ** help *** installing help indices ** building package indices ** testing if installed package can be loaded from temporary location ** testing if installed package can be loaded from final location ** testing if installed package keeps a record of temporary installation path * DONE (ccdata)