| Back to Build/check report for BioC 3.12 experimental data |
|
This page was generated on 2021-05-06 14:10:06 -0400 (Thu, 06 May 2021).
|
To the developers/maintainers of the cMap2data package: Please make sure to use the following settings in order to reproduce any error or warning you see on this page. |
| Package 68/398 | Hostname | OS / Arch | INSTALL | BUILD | CHECK | ||||||||
| cMap2data 1.26.0 (landing page) J. Saez-Rodriguez
| malbec1 | Linux (Ubuntu 18.04.5 LTS) / x86_64 | OK | OK | OK | ||||||||
| Package: cMap2data |
| Version: 1.26.0 |
| Command: /home/biocbuild/bbs-3.12-bioc/R/bin/R CMD INSTALL cMap2data |
| StartedAt: 2021-05-06 09:54:27 -0400 (Thu, 06 May 2021) |
| EndedAt: 2021-05-06 09:54:54 -0400 (Thu, 06 May 2021) |
| EllapsedTime: 27.0 seconds |
| RetCode: 0 |
| Status: OK |
############################################################################## ############################################################################## ### ### Running command: ### ### /home/biocbuild/bbs-3.12-bioc/R/bin/R CMD INSTALL cMap2data ### ############################################################################## ############################################################################## * installing to library ‘/home/biocbuild/bbs-3.12-bioc/R/library’ * installing *source* package ‘cMap2data’ ... ** using staged installation ** data *** moving datasets to lazyload DB ** help *** installing help indices ** building package indices ** installing vignettes ** testing if installed package can be loaded from temporary location ** testing if installed package can be loaded from final location ** testing if installed package keeps a record of temporary installation path * DONE (cMap2data)