| Back to Build/check report for BioC 3.12 experimental data |
|
This page was generated on 2021-05-06 14:10:13 -0400 (Thu, 06 May 2021).
|
To the developers/maintainers of the RforProteomics package: Please make sure to use the following settings in order to reproduce any error or warning you see on this page. |
| Package 303/398 | Hostname | OS / Arch | INSTALL | BUILD | CHECK | ||||||||
| RforProteomics 1.28.1 (landing page) Laurent Gatto
| malbec1 | Linux (Ubuntu 18.04.5 LTS) / x86_64 | OK | ERROR | skipped | ||||||||
| Package: RforProteomics |
| Version: 1.28.1 |
| Command: /home/biocbuild/bbs-3.12-bioc/R/bin/R CMD INSTALL RforProteomics |
| StartedAt: 2021-05-06 10:12:23 -0400 (Thu, 06 May 2021) |
| EndedAt: 2021-05-06 10:12:41 -0400 (Thu, 06 May 2021) |
| EllapsedTime: 18.2 seconds |
| RetCode: 0 |
| Status: OK |
##############################################################################
##############################################################################
###
### Running command:
###
### /home/biocbuild/bbs-3.12-bioc/R/bin/R CMD INSTALL RforProteomics
###
##############################################################################
##############################################################################
* installing to library ‘/home/biocbuild/bbs-3.12-bioc/R/library’
* installing *source* package ‘RforProteomics’ ...
** using staged installation
** R
** data
** inst
** byte-compile and prepare package for lazy loading
Warning: replacing previous import ‘MSnbase::plot’ by ‘graphics::plot’ when loading ‘RforProteomics’
Note: possible error in 'plotOutput("plotma", ': unused argument (clickId = "plotma_click")
** help
*** installing help indices
** building package indices
** installing vignettes
** testing if installed package can be loaded from temporary location
Warning: replacing previous import ‘MSnbase::plot’ by ‘graphics::plot’ when loading ‘RforProteomics’
** testing if installed package can be loaded from final location
Warning: replacing previous import ‘MSnbase::plot’ by ‘graphics::plot’ when loading ‘RforProteomics’
** testing if installed package keeps a record of temporary installation path
* DONE (RforProteomics)