| Back to Build/check report for BioC 3.12 experimental data |
|
This page was generated on 2021-05-06 14:10:13 -0400 (Thu, 06 May 2021).
|
To the developers/maintainers of the RITANdata package: Please make sure to use the following settings in order to reproduce any error or warning you see on this page. |
| Package 306/398 | Hostname | OS / Arch | INSTALL | BUILD | CHECK | ||||||||
| RITANdata 1.14.0 (landing page) Michael Zimmermann
| malbec1 | Linux (Ubuntu 18.04.5 LTS) / x86_64 | OK | OK | OK | ||||||||
| Package: RITANdata |
| Version: 1.14.0 |
| Command: /home/biocbuild/bbs-3.12-bioc/R/bin/R CMD build --keep-empty-dirs --no-resave-data RITANdata |
| StartedAt: 2021-05-06 11:15:16 -0400 (Thu, 06 May 2021) |
| EndedAt: 2021-05-06 11:15:28 -0400 (Thu, 06 May 2021) |
| EllapsedTime: 11.4 seconds |
| RetCode: 0 |
| Status: OK |
| PackageFile: RITANdata_1.14.0.tar.gz |
| PackageFileSize: 7.434 MiB |
############################################################################## ############################################################################## ### ### Running command: ### ### /home/biocbuild/bbs-3.12-bioc/R/bin/R CMD build --keep-empty-dirs --no-resave-data RITANdata ### ############################################################################## ############################################################################## * checking for file ‘RITANdata/DESCRIPTION’ ... OK * preparing ‘RITANdata’: * checking DESCRIPTION meta-information ... OK * installing the package to process help pages * saving partial Rd database * creating vignettes ... OK * checking for LF line-endings in source and make files and shell scripts * checking for empty or unneeded directories * building ‘RITANdata_1.14.0.tar.gz’