| Back to Build/check report for BioC 3.12 experimental data | 
 | 
This page was generated on 2021-05-06 14:10:13 -0400 (Thu, 06 May 2021).
| To the developers/maintainers of the QDNAseq.mm10 package: Please make sure to use the following settings in order to reproduce any error or warning you see on this page. | 
| Package 295/398 | Hostname | OS / Arch | INSTALL | BUILD | CHECK | ||||||||
| QDNAseq.mm10 1.20.0  (landing page) Daoud Sie 
 | malbec1 | Linux (Ubuntu 18.04.5 LTS) / x86_64 | OK | OK | OK |  | |||||||
| Package: QDNAseq.mm10 | 
| Version: 1.20.0 | 
| Command: /home/biocbuild/bbs-3.12-bioc/R/bin/R CMD INSTALL QDNAseq.mm10 | 
| StartedAt: 2021-05-06 10:02:19 -0400 (Thu, 06 May 2021) | 
| EndedAt: 2021-05-06 10:02:35 -0400 (Thu, 06 May 2021) | 
| EllapsedTime: 16.5 seconds | 
| RetCode: 0 | 
| Status: OK | 
############################################################################## ############################################################################## ### ### Running command: ### ### /home/biocbuild/bbs-3.12-bioc/R/bin/R CMD INSTALL QDNAseq.mm10 ### ############################################################################## ############################################################################## * installing to library ‘/home/biocbuild/bbs-3.12-bioc/R/library’ * installing *source* package ‘QDNAseq.mm10’ ... ** using staged installation ** R ** data ** byte-compile and prepare package for lazy loading ** help *** installing help indices ** building package indices ** testing if installed package can be loaded from temporary location ** testing if installed package can be loaded from final location ** testing if installed package keeps a record of temporary installation path * DONE (QDNAseq.mm10)