| Back to Build/check report for BioC 3.12 experimental data |
|
This page was generated on 2021-05-06 14:10:13 -0400 (Thu, 06 May 2021).
|
To the developers/maintainers of the PWMEnrich.Hsapiens.background package: Please make sure to use the following settings in order to reproduce any error or warning you see on this page. |
| Package 291/398 | Hostname | OS / Arch | INSTALL | BUILD | CHECK | ||||||||
| PWMEnrich.Hsapiens.background 4.24.0 (landing page) Diego Diez
| malbec1 | Linux (Ubuntu 18.04.5 LTS) / x86_64 | OK | OK | WARNINGS | ||||||||
| Package: PWMEnrich.Hsapiens.background |
| Version: 4.24.0 |
| Command: /home/biocbuild/bbs-3.12-bioc/R/bin/R CMD build --keep-empty-dirs --no-resave-data PWMEnrich.Hsapiens.background |
| StartedAt: 2021-05-06 11:14:05 -0400 (Thu, 06 May 2021) |
| EndedAt: 2021-05-06 11:14:07 -0400 (Thu, 06 May 2021) |
| EllapsedTime: 1.9 seconds |
| RetCode: 0 |
| Status: OK |
| PackageFile: PWMEnrich.Hsapiens.background_4.24.0.tar.gz |
| PackageFileSize: 15.6 MiB |
############################################################################## ############################################################################## ### ### Running command: ### ### /home/biocbuild/bbs-3.12-bioc/R/bin/R CMD build --keep-empty-dirs --no-resave-data PWMEnrich.Hsapiens.background ### ############################################################################## ############################################################################## * checking for file ‘PWMEnrich.Hsapiens.background/DESCRIPTION’ ... OK * preparing ‘PWMEnrich.Hsapiens.background’: * checking DESCRIPTION meta-information ... OK * checking for LF line-endings in source and make files and shell scripts * checking for empty or unneeded directories * looking to see if a ‘data/datalist’ file should be added * building ‘PWMEnrich.Hsapiens.background_4.24.0.tar.gz’