| Back to Build/check report for BioC 3.12 experimental data |
|
This page was generated on 2021-05-06 14:10:12 -0400 (Thu, 06 May 2021).
|
To the developers/maintainers of the PREDAsampledata package: Please make sure to use the following settings in order to reproduce any error or warning you see on this page. |
| Package 280/398 | Hostname | OS / Arch | INSTALL | BUILD | CHECK | ||||||||
| PREDAsampledata 0.30.0 (landing page) Francesco Ferrari
| malbec1 | Linux (Ubuntu 18.04.5 LTS) / x86_64 | OK | OK | OK | ||||||||
| Package: PREDAsampledata |
| Version: 0.30.0 |
| Command: /home/biocbuild/bbs-3.12-bioc/R/bin/R CMD build --keep-empty-dirs --no-resave-data PREDAsampledata |
| StartedAt: 2021-05-06 11:12:52 -0400 (Thu, 06 May 2021) |
| EndedAt: 2021-05-06 11:13:11 -0400 (Thu, 06 May 2021) |
| EllapsedTime: 19.9 seconds |
| RetCode: 0 |
| Status: OK |
| PackageFile: PREDAsampledata_0.30.0.tar.gz |
| PackageFileSize: 66.79 MiB |
############################################################################## ############################################################################## ### ### Running command: ### ### /home/biocbuild/bbs-3.12-bioc/R/bin/R CMD build --keep-empty-dirs --no-resave-data PREDAsampledata ### ############################################################################## ############################################################################## * checking for file ‘PREDAsampledata/DESCRIPTION’ ... OK * preparing ‘PREDAsampledata’: * checking DESCRIPTION meta-information ... OK * checking for LF line-endings in source and make files and shell scripts * checking for empty or unneeded directories * looking to see if a ‘data/datalist’ file should be added * building ‘PREDAsampledata_0.30.0.tar.gz’