| Back to Build/check report for BioC 3.12 experimental data |
|
This page was generated on 2021-05-06 14:10:12 -0400 (Thu, 06 May 2021).
|
To the developers/maintainers of the NGScopyData package: Please make sure to use the following settings in order to reproduce any error or warning you see on this page. |
| Package 257/398 | Hostname | OS / Arch | INSTALL | BUILD | CHECK | ||||||||
| NGScopyData 1.10.0 (landing page) Xiaobei Zhao
| malbec1 | Linux (Ubuntu 18.04.5 LTS) / x86_64 | OK | OK | OK | ||||||||
| Package: NGScopyData |
| Version: 1.10.0 |
| Command: /home/biocbuild/bbs-3.12-bioc/R/bin/R CMD build --keep-empty-dirs --no-resave-data NGScopyData |
| StartedAt: 2021-05-06 11:10:01 -0400 (Thu, 06 May 2021) |
| EndedAt: 2021-05-06 11:10:06 -0400 (Thu, 06 May 2021) |
| EllapsedTime: 4.3 seconds |
| RetCode: 0 |
| Status: OK |
| PackageFile: NGScopyData_1.10.0.tar.gz |
| PackageFileSize: 37 MiB |
############################################################################## ############################################################################## ### ### Running command: ### ### /home/biocbuild/bbs-3.12-bioc/R/bin/R CMD build --keep-empty-dirs --no-resave-data NGScopyData ### ############################################################################## ############################################################################## * checking for file ‘NGScopyData/DESCRIPTION’ ... OK * preparing ‘NGScopyData’: * checking DESCRIPTION meta-information ... OK * checking for LF line-endings in source and make files and shell scripts * checking for empty or unneeded directories * building ‘NGScopyData_1.10.0.tar.gz’