| Back to Build/check report for BioC 3.12 experimental data | 
 | 
This page was generated on 2021-05-06 14:10:12 -0400 (Thu, 06 May 2021).
| To the developers/maintainers of the MUGAExampleData package: Please make sure to use the following settings in order to reproduce any error or warning you see on this page. | 
| Package 248/398 | Hostname | OS / Arch | INSTALL | BUILD | CHECK | ||||||||
| MUGAExampleData 1.10.0  (landing page) Daniel Gatti 
 | malbec1 | Linux (Ubuntu 18.04.5 LTS) / x86_64 | OK | OK | OK |  | |||||||
| Package: MUGAExampleData | 
| Version: 1.10.0 | 
| Command: /home/biocbuild/bbs-3.12-bioc/R/bin/R CMD build --keep-empty-dirs --no-resave-data MUGAExampleData | 
| StartedAt: 2021-05-06 11:08:30 -0400 (Thu, 06 May 2021) | 
| EndedAt: 2021-05-06 11:08:45 -0400 (Thu, 06 May 2021) | 
| EllapsedTime: 15.4 seconds | 
| RetCode: 0 | 
| Status: OK | 
| PackageFile: MUGAExampleData_1.10.0.tar.gz | 
| PackageFileSize: 88.59 MiB | 
############################################################################## ############################################################################## ### ### Running command: ### ### /home/biocbuild/bbs-3.12-bioc/R/bin/R CMD build --keep-empty-dirs --no-resave-data MUGAExampleData ### ############################################################################## ############################################################################## * checking for file ‘MUGAExampleData/DESCRIPTION’ ... OK * preparing ‘MUGAExampleData’: * checking DESCRIPTION meta-information ... OK * installing the package to build vignettes * creating vignettes ... OK * checking for LF line-endings in source and make files and shell scripts * checking for empty or unneeded directories * looking to see if a ‘data/datalist’ file should be added * building ‘MUGAExampleData_1.10.0.tar.gz’