| Back to Build/check report for BioC 3.12 experimental data | 
 | 
This page was generated on 2021-05-06 14:10:04 -0400 (Thu, 06 May 2021).
| Package 248/398 | Hostname | OS / Arch | INSTALL | BUILD | CHECK | ||||||||
| MUGAExampleData 1.10.0  (landing page) Daniel Gatti 
 | malbec1 | Linux (Ubuntu 18.04.5 LTS) / x86_64 | OK | OK | OK |  | |||||||