| Back to Build/check report for BioC 3.12 experimental data | 
 | 
This page was generated on 2021-05-06 14:10:11 -0400 (Thu, 06 May 2021).
| To the developers/maintainers of the M3DExampleData package: Please make sure to use the following settings in order to reproduce any error or warning you see on this page. | 
| Package 208/398 | Hostname | OS / Arch | INSTALL | BUILD | CHECK | ||||||||
| M3DExampleData 1.16.0  (landing page) Tallulah Andrews 
 | malbec1 | Linux (Ubuntu 18.04.5 LTS) / x86_64 | OK | OK | WARNINGS |  | |||||||
| Package: M3DExampleData | 
| Version: 1.16.0 | 
| Command: /home/biocbuild/bbs-3.12-bioc/R/bin/R CMD build --keep-empty-dirs --no-resave-data M3DExampleData | 
| StartedAt: 2021-05-06 11:03:03 -0400 (Thu, 06 May 2021) | 
| EndedAt: 2021-05-06 11:03:05 -0400 (Thu, 06 May 2021) | 
| EllapsedTime: 2.2 seconds | 
| RetCode: 0 | 
| Status: OK | 
| PackageFile: M3DExampleData_1.16.0.tar.gz | 
| PackageFileSize: 2.05 MiB | 
############################################################################## ############################################################################## ### ### Running command: ### ### /home/biocbuild/bbs-3.12-bioc/R/bin/R CMD build --keep-empty-dirs --no-resave-data M3DExampleData ### ############################################################################## ############################################################################## * checking for file ‘M3DExampleData/DESCRIPTION’ ... OK * preparing ‘M3DExampleData’: * checking DESCRIPTION meta-information ... OK * checking for LF line-endings in source and make files and shell scripts * checking for empty or unneeded directories * building ‘M3DExampleData_1.16.0.tar.gz’