| Back to Build/check report for BioC 3.12 experimental data |
|
This page was generated on 2021-05-06 14:10:11 -0400 (Thu, 06 May 2021).
|
To the developers/maintainers of the KEGGdzPathwaysGEO package: Please make sure to use the following settings in order to reproduce any error or warning you see on this page. |
| Package 196/398 | Hostname | OS / Arch | INSTALL | BUILD | CHECK | ||||||||
| KEGGdzPathwaysGEO 1.28.0 (landing page) Gaurav Bhatti
| malbec1 | Linux (Ubuntu 18.04.5 LTS) / x86_64 | OK | OK | OK | ||||||||
| Package: KEGGdzPathwaysGEO |
| Version: 1.28.0 |
| Command: /home/biocbuild/bbs-3.12-bioc/R/bin/R CMD check --install=check:KEGGdzPathwaysGEO.install-out.txt --library=/home/biocbuild/bbs-3.12-bioc/R/library --no-vignettes --timings KEGGdzPathwaysGEO_1.28.0.tar.gz |
| StartedAt: 2021-05-06 12:16:21 -0400 (Thu, 06 May 2021) |
| EndedAt: 2021-05-06 12:21:49 -0400 (Thu, 06 May 2021) |
| EllapsedTime: 328.1 seconds |
| RetCode: 0 |
| Status: OK |
| CheckDir: KEGGdzPathwaysGEO.Rcheck |
| Warnings: 0 |
##############################################################################
##############################################################################
###
### Running command:
###
### /home/biocbuild/bbs-3.12-bioc/R/bin/R CMD check --install=check:KEGGdzPathwaysGEO.install-out.txt --library=/home/biocbuild/bbs-3.12-bioc/R/library --no-vignettes --timings KEGGdzPathwaysGEO_1.28.0.tar.gz
###
##############################################################################
##############################################################################
* using log directory ‘/home/biocbuild/bbs-3.12-data-experiment/meat/KEGGdzPathwaysGEO.Rcheck’
* using R version 4.0.5 (2021-03-31)
* using platform: x86_64-pc-linux-gnu (64-bit)
* using session charset: UTF-8
* using option ‘--no-vignettes’
* checking for file ‘KEGGdzPathwaysGEO/DESCRIPTION’ ... OK
* checking extension type ... Package
* this is package ‘KEGGdzPathwaysGEO’ version ‘1.28.0’
* checking package namespace information ... OK
* checking package dependencies ... OK
* checking if this is a source package ... OK
* checking if there is a namespace ... OK
* checking for hidden files and directories ... OK
* checking for portable file names ... OK
* checking for sufficient/correct file permissions ... OK
* checking whether package ‘KEGGdzPathwaysGEO’ can be installed ... OK
* checking installed package size ... NOTE
installed size is 300.8Mb
sub-directories of 1Mb or more:
data 300.6Mb
* checking package directory ... OK
* checking DESCRIPTION meta-information ... OK
* checking top-level files ... OK
* checking for left-over files ... OK
* checking index information ... OK
* checking package subdirectories ... OK
* checking R files for non-ASCII characters ... OK
* checking R files for syntax errors ... OK
* checking whether the package can be loaded ... OK
* checking whether the package can be loaded with stated dependencies ... OK
* checking whether the package can be unloaded cleanly ... OK
* checking whether the namespace can be loaded with stated dependencies ... OK
* checking whether the namespace can be unloaded cleanly ... OK
* checking dependencies in R code ... NOTE
Namespaces in Imports field not imported from:
‘Biobase’ ‘BiocGenerics’
All declared Imports should be used.
* checking S3 generic/method consistency ... OK
* checking replacement functions ... OK
* checking foreign function calls ... OK
* checking R code for possible problems ... OK
* checking Rd files ... OK
* checking Rd metadata ... OK
* checking Rd cross-references ... OK
* checking for missing documentation entries ... OK
* checking for code/documentation mismatches ... OK
* checking Rd \usage sections ... OK
* checking Rd contents ... OK
* checking for unstated dependencies in examples ... OK
* checking contents of ‘data’ directory ... OK
* checking data for non-ASCII characters ... OK
* checking data for ASCII and uncompressed saves ... OK
* checking examples ... OK
* checking PDF version of manual ... OK
* DONE
Status: 2 NOTEs
See
‘/home/biocbuild/bbs-3.12-data-experiment/meat/KEGGdzPathwaysGEO.Rcheck/00check.log’
for details.
KEGGdzPathwaysGEO.Rcheck/00install.out
############################################################################## ############################################################################## ### ### Running command: ### ### /home/biocbuild/bbs-3.12-bioc/R/bin/R CMD INSTALL KEGGdzPathwaysGEO ### ############################################################################## ############################################################################## * installing to library ‘/home/biocbuild/bbs-3.12-bioc/R/library’ * installing *source* package ‘KEGGdzPathwaysGEO’ ... ** using staged installation ** R ** data ** byte-compile and prepare package for lazy loading ** help *** installing help indices ** building package indices ** testing if installed package can be loaded from temporary location ** testing if installed package can be loaded from final location ** testing if installed package keeps a record of temporary installation path * DONE (KEGGdzPathwaysGEO)
KEGGdzPathwaysGEO.Rcheck/KEGGdzPathwaysGEO-Ex.timings
| name | user | system | elapsed | |
| GSE1297 | 0.064 | 0.000 | 0.065 | |
| GSE14762 | 0.132 | 0.004 | 0.136 | |
| GSE15471 | 0.300 | 0.016 | 0.313 | |
| GSE16515 | 0.152 | 0.004 | 0.159 | |
| GSE18842 | 0.352 | 0.040 | 0.390 | |
| GSE19188 | 0.632 | 0.040 | 0.675 | |
| GSE19728 | 0.124 | 0.000 | 0.126 | |
| GSE20153 | 0.108 | 0.000 | 0.108 | |
| GSE20291 | 0.072 | 0.000 | 0.070 | |
| GSE21354 | 0.112 | 0.000 | 0.112 | |
| GSE3467 | 0.108 | 0.004 | 0.114 | |
| GSE3585 | 0.036 | 0.004 | 0.040 | |
| GSE3678 | 0.104 | 0.000 | 0.101 | |
| GSE4107 | 0.132 | 0.000 | 0.133 | |
| GSE5281_EC | 0.128 | 0.000 | 0.129 | |
| GSE5281_HIP | 0.148 | 0.000 | 0.148 | |
| GSE5281_VCX | 0.164 | 0.000 | 0.165 | |
| GSE6956AA | 0.040 | 0.000 | 0.039 | |
| GSE6956C | 0.080 | 0.008 | 0.089 | |
| GSE781 | 0.044 | 0.004 | 0.045 | |
| GSE8671 | 0.272 | 0.008 | 0.281 | |
| GSE8762 | 0.136 | 0.000 | 0.134 | |
| GSE9348 | 0.340 | 0.004 | 0.346 | |
| GSE9476 | 0.112 | 0.004 | 0.117 | |
| KEGGdzPathwaysGEO-package | 0.308 | 0.032 | 0.354 | |