| Back to Build/check report for BioC 3.12 experimental data |
|
This page was generated on 2021-05-06 14:10:10 -0400 (Thu, 06 May 2021).
|
To the developers/maintainers of the HighlyReplicatedRNASeq package: Please make sure to use the following settings in order to reproduce any error or warning you see on this page. |
| Package 178/398 | Hostname | OS / Arch | INSTALL | BUILD | CHECK | ||||||||
| HighlyReplicatedRNASeq 1.2.0 (landing page) Constantin Ahlmann-Eltze
| malbec1 | Linux (Ubuntu 18.04.5 LTS) / x86_64 | OK | OK | OK | ||||||||
| Package: HighlyReplicatedRNASeq |
| Version: 1.2.0 |
| Command: /home/biocbuild/bbs-3.12-bioc/R/bin/R CMD build --keep-empty-dirs --no-resave-data HighlyReplicatedRNASeq |
| StartedAt: 2021-05-06 10:58:27 -0400 (Thu, 06 May 2021) |
| EndedAt: 2021-05-06 10:59:18 -0400 (Thu, 06 May 2021) |
| EllapsedTime: 50.9 seconds |
| RetCode: 0 |
| Status: OK |
| PackageFile: HighlyReplicatedRNASeq_1.2.0.tar.gz |
| PackageFileSize: 372.3 KiB |
############################################################################## ############################################################################## ### ### Running command: ### ### /home/biocbuild/bbs-3.12-bioc/R/bin/R CMD build --keep-empty-dirs --no-resave-data HighlyReplicatedRNASeq ### ############################################################################## ############################################################################## * checking for file ‘HighlyReplicatedRNASeq/DESCRIPTION’ ... OK * preparing ‘HighlyReplicatedRNASeq’: * checking DESCRIPTION meta-information ... OK * installing the package to build vignettes * creating vignettes ... OK * checking for LF line-endings in source and make files and shell scripts * checking for empty or unneeded directories * building ‘HighlyReplicatedRNASeq_1.2.0.tar.gz’