| Back to Build/check report for BioC 3.12 experimental data |
|
This page was generated on 2021-05-06 14:10:10 -0400 (Thu, 06 May 2021).
|
To the developers/maintainers of the HiCDataLymphoblast package: Please make sure to use the following settings in order to reproduce any error or warning you see on this page. |
| Package 177/398 | Hostname | OS / Arch | INSTALL | BUILD | CHECK | ||||||||
| HiCDataLymphoblast 1.26.0 (landing page) Borbala Mifsud
| malbec1 | Linux (Ubuntu 18.04.5 LTS) / x86_64 | OK | OK | OK | ||||||||
| Package: HiCDataLymphoblast |
| Version: 1.26.0 |
| Command: /home/biocbuild/bbs-3.12-bioc/R/bin/R CMD check --install=check:HiCDataLymphoblast.install-out.txt --library=/home/biocbuild/bbs-3.12-bioc/R/library --no-vignettes --timings HiCDataLymphoblast_1.26.0.tar.gz |
| StartedAt: 2021-05-06 12:11:43 -0400 (Thu, 06 May 2021) |
| EndedAt: 2021-05-06 12:11:51 -0400 (Thu, 06 May 2021) |
| EllapsedTime: 7.5 seconds |
| RetCode: 0 |
| Status: OK |
| CheckDir: HiCDataLymphoblast.Rcheck |
| Warnings: 0 |
##############################################################################
##############################################################################
###
### Running command:
###
### /home/biocbuild/bbs-3.12-bioc/R/bin/R CMD check --install=check:HiCDataLymphoblast.install-out.txt --library=/home/biocbuild/bbs-3.12-bioc/R/library --no-vignettes --timings HiCDataLymphoblast_1.26.0.tar.gz
###
##############################################################################
##############################################################################
* using log directory ‘/home/biocbuild/bbs-3.12-data-experiment/meat/HiCDataLymphoblast.Rcheck’
* using R version 4.0.5 (2021-03-31)
* using platform: x86_64-pc-linux-gnu (64-bit)
* using session charset: UTF-8
* using option ‘--no-vignettes’
* checking for file ‘HiCDataLymphoblast/DESCRIPTION’ ... OK
* this is package ‘HiCDataLymphoblast’ version ‘1.26.0’
* checking package namespace information ... OK
* checking package dependencies ... OK
* checking if this is a source package ... OK
* checking if there is a namespace ... OK
* checking for hidden files and directories ... OK
* checking for portable file names ... OK
* checking for sufficient/correct file permissions ... OK
* checking whether package ‘HiCDataLymphoblast’ can be installed ... OK
* checking installed package size ... NOTE
installed size is 58.2Mb
sub-directories of 1Mb or more:
extdata 58.1Mb
* checking package directory ... OK
* checking ‘build’ directory ... OK
* checking DESCRIPTION meta-information ... OK
* checking top-level files ... OK
* checking for left-over files ... OK
* checking index information ... OK
* checking package subdirectories ... OK
* checking whether the package can be loaded ... OK
* checking whether the package can be loaded with stated dependencies ... OK
* checking whether the package can be unloaded cleanly ... OK
* checking whether the namespace can be loaded with stated dependencies ... OK
* checking whether the namespace can be unloaded cleanly ... OK
* checking files in ‘vignettes’ ... OK
* checking examples ... NONE
* checking for unstated dependencies in vignettes ... OK
* checking package vignettes in ‘inst/doc’ ... OK
* checking running R code from vignettes ... SKIPPED
* checking re-building of vignette outputs ... SKIPPED
* checking PDF version of manual ... OK
* DONE
Status: 1 NOTE
See
‘/home/biocbuild/bbs-3.12-data-experiment/meat/HiCDataLymphoblast.Rcheck/00check.log’
for details.
HiCDataLymphoblast.Rcheck/00install.out
############################################################################## ############################################################################## ### ### Running command: ### ### /home/biocbuild/bbs-3.12-bioc/R/bin/R CMD INSTALL HiCDataLymphoblast ### ############################################################################## ############################################################################## * installing to library ‘/home/biocbuild/bbs-3.12-bioc/R/library’ * installing *source* package ‘HiCDataLymphoblast’ ... ** using staged installation ** inst ** help No man pages found in package ‘HiCDataLymphoblast’ *** installing help indices ** building package indices ** installing vignettes ** testing if installed package can be loaded from temporary location ** testing if installed package can be loaded from final location ** testing if installed package keeps a record of temporary installation path * DONE (HiCDataLymphoblast)