| Back to Build/check report for BioC 3.12 experimental data |
|
This page was generated on 2021-05-06 14:10:10 -0400 (Thu, 06 May 2021).
|
To the developers/maintainers of the HDCytoData package: Please make sure to use the following settings in order to reproduce any error or warning you see on this page. |
| Package 168/398 | Hostname | OS / Arch | INSTALL | BUILD | CHECK | ||||||||
| HDCytoData 1.10.0 (landing page) Lukas M. Weber
| malbec1 | Linux (Ubuntu 18.04.5 LTS) / x86_64 | OK | OK | OK | ||||||||
| Package: HDCytoData |
| Version: 1.10.0 |
| Command: /home/biocbuild/bbs-3.12-bioc/R/bin/R CMD check --install=check:HDCytoData.install-out.txt --library=/home/biocbuild/bbs-3.12-bioc/R/library --no-vignettes --timings HDCytoData_1.10.0.tar.gz |
| StartedAt: 2021-05-06 12:09:32 -0400 (Thu, 06 May 2021) |
| EndedAt: 2021-05-06 12:14:47 -0400 (Thu, 06 May 2021) |
| EllapsedTime: 314.7 seconds |
| RetCode: 0 |
| Status: OK |
| CheckDir: HDCytoData.Rcheck |
| Warnings: 0 |
##############################################################################
##############################################################################
###
### Running command:
###
### /home/biocbuild/bbs-3.12-bioc/R/bin/R CMD check --install=check:HDCytoData.install-out.txt --library=/home/biocbuild/bbs-3.12-bioc/R/library --no-vignettes --timings HDCytoData_1.10.0.tar.gz
###
##############################################################################
##############################################################################
* using log directory ‘/home/biocbuild/bbs-3.12-data-experiment/meat/HDCytoData.Rcheck’
* using R version 4.0.5 (2021-03-31)
* using platform: x86_64-pc-linux-gnu (64-bit)
* using session charset: UTF-8
* using option ‘--no-vignettes’
* checking for file ‘HDCytoData/DESCRIPTION’ ... OK
* this is package ‘HDCytoData’ version ‘1.10.0’
* checking package namespace information ... OK
* checking package dependencies ... OK
* checking if this is a source package ... OK
* checking if there is a namespace ... OK
* checking for hidden files and directories ... OK
* checking for portable file names ... OK
* checking for sufficient/correct file permissions ... OK
* checking whether package ‘HDCytoData’ can be installed ... OK
* checking installed package size ... OK
* checking package directory ... OK
* checking ‘build’ directory ... OK
* checking DESCRIPTION meta-information ... OK
* checking top-level files ... OK
* checking for left-over files ... OK
* checking index information ... OK
* checking package subdirectories ... OK
* checking R files for non-ASCII characters ... OK
* checking R files for syntax errors ... OK
* checking whether the package can be loaded ... OK
* checking whether the package can be loaded with stated dependencies ... OK
* checking whether the package can be unloaded cleanly ... OK
* checking whether the namespace can be loaded with stated dependencies ... OK
* checking whether the namespace can be unloaded cleanly ... OK
* checking dependencies in R code ... OK
* checking S3 generic/method consistency ... OK
* checking replacement functions ... OK
* checking foreign function calls ... OK
* checking R code for possible problems ... OK
* checking Rd files ... OK
* checking Rd metadata ... OK
* checking Rd cross-references ... OK
* checking for missing documentation entries ... OK
* checking for code/documentation mismatches ... OK
* checking Rd \usage sections ... OK
* checking Rd contents ... OK
* checking for unstated dependencies in examples ... OK
* checking files in ‘vignettes’ ... OK
* checking examples ... OK
Examples with CPU (user + system) or elapsed time > 5s
user system elapsed
Samusik_all_SE 15.084 0.484 17.176
Bodenmiller_BCR_XL_SE 9.268 0.280 10.487
Krieg_Anti_PD_1_SE 9.412 0.120 10.496
Levine_32dim_SE 9.112 0.164 10.400
Mosmann_rare_SE 8.816 0.128 9.815
Weber_AML_sim_main_5pc_SE 8.476 0.152 9.648
Samusik_01_SE 8.376 0.140 9.390
Weber_BCR_XL_sim_main_SE 8.040 0.092 9.057
Nilsson_rare_SE 6.532 0.064 7.444
Levine_13dim_SE 6.420 0.088 7.361
* checking for unstated dependencies in vignettes ... OK
* checking package vignettes in ‘inst/doc’ ... OK
* checking running R code from vignettes ... SKIPPED
* checking re-building of vignette outputs ... SKIPPED
* checking PDF version of manual ... OK
* DONE
Status: OK
HDCytoData.Rcheck/00install.out
############################################################################## ############################################################################## ### ### Running command: ### ### /home/biocbuild/bbs-3.12-bioc/R/bin/R CMD INSTALL HDCytoData ### ############################################################################## ############################################################################## * installing to library ‘/home/biocbuild/bbs-3.12-bioc/R/library’ * installing *source* package ‘HDCytoData’ ... ** using staged installation ** R ** inst ** byte-compile and prepare package for lazy loading ** help *** installing help indices ** building package indices ** installing vignettes ** testing if installed package can be loaded from temporary location snapshotDate(): 2020-10-27 ** testing if installed package can be loaded from final location snapshotDate(): 2020-10-27 ** testing if installed package keeps a record of temporary installation path * DONE (HDCytoData)
HDCytoData.Rcheck/HDCytoData-Ex.timings
| name | user | system | elapsed | |
| Bodenmiller_BCR_XL_SE | 9.268 | 0.280 | 10.487 | |
| Krieg_Anti_PD_1_SE | 9.412 | 0.120 | 10.496 | |
| Levine_13dim_SE | 6.420 | 0.088 | 7.361 | |
| Levine_32dim_SE | 9.112 | 0.164 | 10.400 | |
| Mosmann_rare_SE | 8.816 | 0.128 | 9.815 | |
| Nilsson_rare_SE | 6.532 | 0.064 | 7.444 | |
| Samusik_01_SE | 8.376 | 0.140 | 9.390 | |
| Samusik_all_SE | 15.084 | 0.484 | 17.176 | |
| Weber_AML_sim_main_5pc_SE | 8.476 | 0.152 | 9.648 | |
| Weber_BCR_XL_sim_main_SE | 8.040 | 0.092 | 9.057 | |