| Back to Build/check report for BioC 3.12 experimental data |
|
This page was generated on 2021-05-06 14:10:10 -0400 (Thu, 06 May 2021).
|
To the developers/maintainers of the GWASdata package: Please make sure to use the following settings in order to reproduce any error or warning you see on this page. |
| Package 155/398 | Hostname | OS / Arch | INSTALL | BUILD | CHECK | ||||||||
| GWASdata 1.28.0 (landing page) Stephanie Gogarten
| malbec1 | Linux (Ubuntu 18.04.5 LTS) / x86_64 | OK | OK | OK | ||||||||
| Package: GWASdata |
| Version: 1.28.0 |
| Command: /home/biocbuild/bbs-3.12-bioc/R/bin/R CMD INSTALL GWASdata |
| StartedAt: 2021-05-06 10:04:03 -0400 (Thu, 06 May 2021) |
| EndedAt: 2021-05-06 10:04:13 -0400 (Thu, 06 May 2021) |
| EllapsedTime: 9.5 seconds |
| RetCode: 0 |
| Status: OK |
############################################################################## ############################################################################## ### ### Running command: ### ### /home/biocbuild/bbs-3.12-bioc/R/bin/R CMD INSTALL GWASdata ### ############################################################################## ############################################################################## * installing to library ‘/home/biocbuild/bbs-3.12-bioc/R/library’ * installing *source* package ‘GWASdata’ ... ** using staged installation ** data ** inst ** help *** installing help indices ** building package indices ** testing if installed package can be loaded from temporary location Warning in .recacheSubclasses(def@className, def, env) : undefined subclass "numericVector" of class "Mnumeric"; definition not updated ** testing if installed package can be loaded from final location Warning in .recacheSubclasses(def@className, def, env) : undefined subclass "numericVector" of class "Mnumeric"; definition not updated ** testing if installed package keeps a record of temporary installation path * DONE (GWASdata)