| Back to Build/check report for BioC 3.12 experimental data |
|
This page was generated on 2021-05-06 14:10:10 -0400 (Thu, 06 May 2021).
|
To the developers/maintainers of the GSVAdata package: Please make sure to use the following settings in order to reproduce any error or warning you see on this page. |
| Package 154/398 | Hostname | OS / Arch | INSTALL | BUILD | CHECK | ||||||||
| GSVAdata 1.26.0 (landing page) Robert Castelo
| malbec1 | Linux (Ubuntu 18.04.5 LTS) / x86_64 | OK | OK | OK | ||||||||
| Package: GSVAdata |
| Version: 1.26.0 |
| Command: /home/biocbuild/bbs-3.12-bioc/R/bin/R CMD build --keep-empty-dirs --no-resave-data GSVAdata |
| StartedAt: 2021-05-06 10:53:55 -0400 (Thu, 06 May 2021) |
| EndedAt: 2021-05-06 10:53:59 -0400 (Thu, 06 May 2021) |
| EllapsedTime: 3.9 seconds |
| RetCode: 0 |
| Status: OK |
| PackageFile: GSVAdata_1.26.0.tar.gz |
| PackageFileSize: 12.73 MiB |
############################################################################## ############################################################################## ### ### Running command: ### ### /home/biocbuild/bbs-3.12-bioc/R/bin/R CMD build --keep-empty-dirs --no-resave-data GSVAdata ### ############################################################################## ############################################################################## * checking for file ‘GSVAdata/DESCRIPTION’ ... OK * preparing ‘GSVAdata’: * checking DESCRIPTION meta-information ... OK * checking for LF line-endings in source and make files and shell scripts * checking for empty or unneeded directories * looking to see if a ‘data/datalist’ file should be added * building ‘GSVAdata_1.26.0.tar.gz’