| Back to Build/check report for BioC 3.12 experimental data |
|
This page was generated on 2021-05-06 14:10:10 -0400 (Thu, 06 May 2021).
|
To the developers/maintainers of the GSBenchMark package: Please make sure to use the following settings in order to reproduce any error or warning you see on this page. |
| Package 151/398 | Hostname | OS / Arch | INSTALL | BUILD | CHECK | ||||||||
| GSBenchMark 1.10.0 (landing page) Bahman Afsari
| malbec1 | Linux (Ubuntu 18.04.5 LTS) / x86_64 | OK | OK | OK | ||||||||
| Package: GSBenchMark |
| Version: 1.10.0 |
| Command: /home/biocbuild/bbs-3.12-bioc/R/bin/R CMD check --install=check:GSBenchMark.install-out.txt --library=/home/biocbuild/bbs-3.12-bioc/R/library --no-vignettes --timings GSBenchMark_1.10.0.tar.gz |
| StartedAt: 2021-05-06 12:06:50 -0400 (Thu, 06 May 2021) |
| EndedAt: 2021-05-06 12:07:17 -0400 (Thu, 06 May 2021) |
| EllapsedTime: 26.7 seconds |
| RetCode: 0 |
| Status: OK |
| CheckDir: GSBenchMark.Rcheck |
| Warnings: 0 |
##############################################################################
##############################################################################
###
### Running command:
###
### /home/biocbuild/bbs-3.12-bioc/R/bin/R CMD check --install=check:GSBenchMark.install-out.txt --library=/home/biocbuild/bbs-3.12-bioc/R/library --no-vignettes --timings GSBenchMark_1.10.0.tar.gz
###
##############################################################################
##############################################################################
* using log directory ‘/home/biocbuild/bbs-3.12-data-experiment/meat/GSBenchMark.Rcheck’
* using R version 4.0.5 (2021-03-31)
* using platform: x86_64-pc-linux-gnu (64-bit)
* using session charset: UTF-8
* using option ‘--no-vignettes’
* checking for file ‘GSBenchMark/DESCRIPTION’ ... OK
* this is package ‘GSBenchMark’ version ‘1.10.0’
* checking package namespace information ... OK
* checking package dependencies ... OK
* checking if this is a source package ... OK
* checking if there is a namespace ... OK
* checking for hidden files and directories ... OK
* checking for portable file names ... OK
* checking for sufficient/correct file permissions ... OK
* checking whether package ‘GSBenchMark’ can be installed ... OK
* checking installed package size ... NOTE
installed size is 41.9Mb
sub-directories of 1Mb or more:
data 41.8Mb
* checking package directory ... OK
* checking ‘build’ directory ... OK
* checking DESCRIPTION meta-information ... OK
* checking top-level files ... OK
* checking for left-over files ... OK
* checking index information ... OK
* checking package subdirectories ... OK
* checking whether the package can be loaded ... OK
* checking whether the package can be loaded with stated dependencies ... OK
* checking whether the package can be unloaded cleanly ... OK
* checking whether the namespace can be loaded with stated dependencies ... OK
* checking whether the namespace can be unloaded cleanly ... OK
* checking Rd files ... OK
* checking Rd metadata ... OK
* checking Rd cross-references ... OK
* checking for missing documentation entries ... OK
* checking for code/documentation mismatches ... OK
* checking Rd \usage sections ... OK
* checking Rd contents ... OK
* checking for unstated dependencies in examples ... OK
* checking contents of ‘data’ directory ... OK
* checking data for non-ASCII characters ... OK
* checking data for ASCII and uncompressed saves ... OK
* checking files in ‘vignettes’ ... OK
* checking examples ... OK
* checking for unstated dependencies in vignettes ... OK
* checking package vignettes in ‘inst/doc’ ... OK
* checking running R code from vignettes ... SKIPPED
* checking re-building of vignette outputs ... SKIPPED
* checking PDF version of manual ... OK
* DONE
Status: 1 NOTE
See
‘/home/biocbuild/bbs-3.12-data-experiment/meat/GSBenchMark.Rcheck/00check.log’
for details.
GSBenchMark.Rcheck/00install.out
############################################################################## ############################################################################## ### ### Running command: ### ### /home/biocbuild/bbs-3.12-bioc/R/bin/R CMD INSTALL GSBenchMark ### ############################################################################## ############################################################################## * installing to library ‘/home/biocbuild/bbs-3.12-bioc/R/library’ * installing *source* package ‘GSBenchMark’ ... ** using staged installation ** data ** help *** installing help indices ** building package indices ** installing vignettes ** testing if installed package can be loaded from temporary location ** testing if installed package can be loaded from final location ** testing if installed package keeps a record of temporary installation path * DONE (GSBenchMark)
GSBenchMark.Rcheck/GSBenchMark-Ex.timings
| name | user | system | elapsed | |
| GSBenchMarkDatasets | 0.204 | 0.016 | 0.219 | |
| bipolar_GDS2190 | 0.212 | 0.000 | 0.213 | |
| breast_GDS807 | 0.208 | 0.012 | 0.220 | |
| diracpathways | 0.020 | 0.000 | 0.019 | |
| exprsdata | 0.328 | 0.004 | 0.332 | |
| leukemia_GSEA | 0.208 | 0.000 | 0.210 | |
| logexprsdata | 0.328 | 0.008 | 0.338 | |
| marfan_GDS2960 | 0.108 | 0.008 | 0.117 | |
| melanoma_GDS2735 | 0.256 | 0.016 | 0.272 | |
| parkinsons_GDS2519 | 0.452 | 0.024 | 0.477 | |
| phenotypes | 0.316 | 0.008 | 0.327 | |
| prostate_GDS2545_m_nf | 0.188 | 0.008 | 0.195 | |
| prostate_GDS2545_m_p | 0.504 | 0.028 | 0.532 | |
| prostate_GDS2545_p_nf | 0.448 | 0.016 | 0.465 | |
| sarcoma_data | 0.560 | 0.044 | 0.603 | |
| squamous_GDS2520 | 0.212 | 0.000 | 0.214 | |