| Back to Build/check report for BioC 3.12 experimental data |
|
This page was generated on 2021-05-06 14:10:07 -0400 (Thu, 06 May 2021).
|
To the developers/maintainers of the DuoClustering2018 package: Please make sure to use the following settings in order to reproduce any error or warning you see on this page. |
| Package 105/398 | Hostname | OS / Arch | INSTALL | BUILD | CHECK | ||||||||
| DuoClustering2018 1.8.0 (landing page) Angelo Duò
| malbec1 | Linux (Ubuntu 18.04.5 LTS) / x86_64 | OK | OK | OK | ||||||||
| Package: DuoClustering2018 |
| Version: 1.8.0 |
| Command: /home/biocbuild/bbs-3.12-bioc/R/bin/R CMD check --install=check:DuoClustering2018.install-out.txt --library=/home/biocbuild/bbs-3.12-bioc/R/library --no-vignettes --timings DuoClustering2018_1.8.0.tar.gz |
| StartedAt: 2021-05-06 11:56:10 -0400 (Thu, 06 May 2021) |
| EndedAt: 2021-05-06 12:00:31 -0400 (Thu, 06 May 2021) |
| EllapsedTime: 260.7 seconds |
| RetCode: 0 |
| Status: OK |
| CheckDir: DuoClustering2018.Rcheck |
| Warnings: 0 |
##############################################################################
##############################################################################
###
### Running command:
###
### /home/biocbuild/bbs-3.12-bioc/R/bin/R CMD check --install=check:DuoClustering2018.install-out.txt --library=/home/biocbuild/bbs-3.12-bioc/R/library --no-vignettes --timings DuoClustering2018_1.8.0.tar.gz
###
##############################################################################
##############################################################################
* using log directory ‘/home/biocbuild/bbs-3.12-data-experiment/meat/DuoClustering2018.Rcheck’
* using R version 4.0.5 (2021-03-31)
* using platform: x86_64-pc-linux-gnu (64-bit)
* using session charset: UTF-8
* using option ‘--no-vignettes’
* checking for file ‘DuoClustering2018/DESCRIPTION’ ... OK
* checking extension type ... Package
* this is package ‘DuoClustering2018’ version ‘1.8.0’
* package encoding: UTF-8
* checking package namespace information ... OK
* checking package dependencies ... OK
* checking if this is a source package ... OK
* checking if there is a namespace ... OK
* checking for hidden files and directories ... NOTE
Found the following hidden files and directories:
.github
These were most likely included in error. See section ‘Package
structure’ in the ‘Writing R Extensions’ manual.
* checking for portable file names ... OK
* checking for sufficient/correct file permissions ... OK
* checking whether package ‘DuoClustering2018’ can be installed ... OK
* checking installed package size ... OK
* checking package directory ... OK
* checking ‘build’ directory ... OK
* checking DESCRIPTION meta-information ... OK
* checking top-level files ... OK
* checking for left-over files ... OK
* checking index information ... OK
* checking package subdirectories ... OK
* checking R files for non-ASCII characters ... OK
* checking R files for syntax errors ... OK
* checking whether the package can be loaded ... OK
* checking whether the package can be loaded with stated dependencies ... OK
* checking whether the package can be unloaded cleanly ... OK
* checking whether the namespace can be loaded with stated dependencies ... OK
* checking whether the namespace can be unloaded cleanly ... OK
* checking dependencies in R code ... OK
* checking S3 generic/method consistency ... OK
* checking replacement functions ... OK
* checking foreign function calls ... OK
* checking R code for possible problems ... NOTE
ari_df: no visible binding for global variable ‘cell’
plot_entropy: no visible binding for global variable ‘dataset’
plot_entropy: no visible binding for global variable ‘method’
plot_entropy: no visible binding for global variable ‘run’
plot_entropy: no visible binding for global variable ‘k’
plot_entropy: no visible binding for global variable ‘cluster’
plot_entropy: no visible binding for global variable ‘trueclass’
plot_entropy: no visible binding for global variable ‘s’
plot_entropy: no visible binding for global variable ‘s.true’
plot_entropy: no visible binding for global variable ‘est_k’
plot_entropy: no visible binding for global variable ‘sce’
plot_entropy: no visible binding for global variable ‘filtering’
plot_entropy: no visible binding for global variable ‘truenclust’
plot_entropy: no visible binding for global variable ‘entropy’
plot_entropy: no visible binding for global variable ‘ARI’
plot_entropy: no visible binding for global variable ‘s.norm’
plot_entropy: no visible binding for global variable ‘s.true.norm’
plot_entropy: no visible binding for global variable ‘ds’
plot_entropy: no visible binding for global variable ‘ds.norm’
plot_k_diff: no visible binding for global variable ‘dataset’
plot_k_diff: no visible binding for global variable ‘method’
plot_k_diff: no visible binding for global variable ‘run’
plot_k_diff: no visible binding for global variable ‘k’
plot_k_diff: no visible binding for global variable ‘cluster’
plot_k_diff: no visible binding for global variable ‘trueclass’
plot_k_diff: no visible binding for global variable ‘est_k’
plot_k_diff: no visible binding for global variable ‘elapsed’
plot_k_diff: no visible binding for global variable ‘sce’
plot_k_diff: no visible binding for global variable ‘filtering’
plot_k_diff: no visible binding for global variable ‘truenclust’
plot_k_diff: no visible binding for global variable ‘ARI’
plot_k_diff: no visible binding for global variable ‘medARI’
plot_k_diff: no visible binding for global variable ‘k_diff’
plot_k_diff: no visible binding for global variable ‘estnclust’
plot_performance: no visible binding for global variable ‘dataset’
plot_performance: no visible binding for global variable ‘method’
plot_performance: no visible binding for global variable ‘run’
plot_performance: no visible binding for global variable ‘k’
plot_performance: no visible binding for global variable ‘cluster’
plot_performance: no visible binding for global variable ‘trueclass’
plot_performance: no visible binding for global variable ‘est_k’
plot_performance: no visible binding for global variable ‘elapsed’
plot_performance: no visible binding for global variable ‘sce’
plot_performance: no visible binding for global variable ‘filtering’
plot_performance: no visible binding for global variable ‘ARI’
plot_performance: no visible binding for global variable ‘truenclust’
plot_performance: no visible binding for global variable ‘medianARI’
plot_performance: no visible binding for global variable ‘estnclust’
plot_stability: no visible binding for global variable ‘dataset’
plot_stability: no visible binding for global variable ‘method’
plot_stability: no visible binding for global variable ‘k’
plot_stability: no visible binding for global variable ‘data.wide’
plot_stability: no visible binding for global variable ‘stability’
plot_stability: no visible binding for global variable ‘truenclust’
plot_stability: no visible binding for global variable ‘sce’
plot_stability: no visible binding for global variable ‘filtering’
plot_stability: no visible binding for global variable ‘ari.stab’
plot_stability: no visible binding for global variable
‘median.stability’
plot_timing: no visible binding for global variable ‘dataset’
plot_timing: no visible binding for global variable ‘method’
plot_timing: no visible binding for global variable ‘run’
plot_timing: no visible binding for global variable ‘k’
plot_timing: no visible binding for global variable ‘cluster’
plot_timing: no visible binding for global variable ‘trueclass’
plot_timing: no visible binding for global variable ‘est_k’
plot_timing: no visible binding for global variable ‘elapsed’
plot_timing: no visible binding for global variable ‘sce’
plot_timing: no visible binding for global variable ‘filtering’
plot_timing: no visible binding for global variable ‘truenclust’
plot_timing: no visible binding for global variable ‘median.elapsed’
plot_timing: no visible binding for global variable ‘med.t’
plot_timing: no visible binding for global variable ‘norm.time’
plot_timing: no visible binding for global variable ‘medianelapsed’
Undefined global functions or variables:
ARI ari.stab cell cluster data.wide dataset ds ds.norm elapsed
entropy est_k estnclust filtering k k_diff med.t medARI
median.elapsed median.stability medianARI medianelapsed method
norm.time run s s.norm s.true s.true.norm sce stability trueclass
truenclust
* checking Rd files ... OK
* checking Rd metadata ... OK
* checking Rd cross-references ... OK
* checking for missing documentation entries ... OK
* checking for code/documentation mismatches ... OK
* checking Rd \usage sections ... OK
* checking Rd contents ... OK
* checking for unstated dependencies in examples ... OK
* checking files in ‘vignettes’ ... OK
* checking examples ... OK
Examples with CPU (user + system) or elapsed time > 5s
user system elapsed
sce_full_Koh 7.308 0.104 8.945
clustering_summary_v1 6.672 0.184 7.494
plot_entropy 5.812 0.056 6.305
clustering_summary_v2 5.480 0.264 6.530
plot_stability 5.620 0.060 6.150
sce_full_SimKumar 4.712 0.108 6.047
plot_k_diff 4.668 0.036 5.097
sce_full_Kumar 4.176 0.092 5.735
sce_full_Zhengmix 4.184 0.080 5.518
* checking for unstated dependencies in vignettes ... OK
* checking package vignettes in ‘inst/doc’ ... OK
* checking running R code from vignettes ... SKIPPED
* checking re-building of vignette outputs ... SKIPPED
* checking PDF version of manual ... OK
* DONE
Status: 2 NOTEs
See
‘/home/biocbuild/bbs-3.12-data-experiment/meat/DuoClustering2018.Rcheck/00check.log’
for details.
DuoClustering2018.Rcheck/00install.out
############################################################################## ############################################################################## ### ### Running command: ### ### /home/biocbuild/bbs-3.12-bioc/R/bin/R CMD INSTALL DuoClustering2018 ### ############################################################################## ############################################################################## * installing to library ‘/home/biocbuild/bbs-3.12-bioc/R/library’ * installing *source* package ‘DuoClustering2018’ ... ** using staged installation ** R ** inst ** byte-compile and prepare package for lazy loading ** help *** installing help indices ** building package indices ** installing vignettes ** testing if installed package can be loaded from temporary location snapshotDate(): 2020-10-27 ** testing if installed package can be loaded from final location snapshotDate(): 2020-10-27 ** testing if installed package keeps a record of temporary installation path * DONE (DuoClustering2018)
DuoClustering2018.Rcheck/DuoClustering2018-Ex.timings
| name | user | system | elapsed | |
| clustering_summary_v1 | 6.672 | 0.184 | 7.494 | |
| clustering_summary_v2 | 5.480 | 0.264 | 6.530 | |
| duo_clustering_all_parameter_settings_v1 | 3.432 | 0.032 | 3.950 | |
| duo_clustering_all_parameter_settings_v2 | 3.036 | 0.060 | 3.730 | |
| plot_entropy | 5.812 | 0.056 | 6.305 | |
| plot_k_diff | 4.668 | 0.036 | 5.097 | |
| plot_performance | 4.196 | 0.072 | 4.912 | |
| plot_stability | 5.62 | 0.06 | 6.15 | |
| plot_timing | 4.132 | 0.056 | 4.594 | |
| sce_full_Koh | 7.308 | 0.104 | 8.945 | |
| sce_full_Kumar | 4.176 | 0.092 | 5.735 | |
| sce_full_SimKumar | 4.712 | 0.108 | 6.047 | |
| sce_full_Trapnell | 3.316 | 0.028 | 4.232 | |
| sce_full_Zhengmix | 4.184 | 0.080 | 5.518 | |