| Back to Build/check report for BioC 3.12 experimental data |
|
This page was generated on 2021-05-06 14:10:07 -0400 (Thu, 06 May 2021).
|
To the developers/maintainers of the DropletTestFiles package: Please make sure to use the following settings in order to reproduce any error or warning you see on this page. |
| Package 102/398 | Hostname | OS / Arch | INSTALL | BUILD | CHECK | ||||||||
| DropletTestFiles 1.0.0 (landing page) Aaron Lun
| malbec1 | Linux (Ubuntu 18.04.5 LTS) / x86_64 | OK | OK | OK | ||||||||
| Package: DropletTestFiles |
| Version: 1.0.0 |
| Command: /home/biocbuild/bbs-3.12-bioc/R/bin/R CMD build --keep-empty-dirs --no-resave-data DropletTestFiles |
| StartedAt: 2021-05-06 10:40:36 -0400 (Thu, 06 May 2021) |
| EndedAt: 2021-05-06 10:41:14 -0400 (Thu, 06 May 2021) |
| EllapsedTime: 38.7 seconds |
| RetCode: 0 |
| Status: OK |
| PackageFile: DropletTestFiles_1.0.0.tar.gz |
| PackageFileSize: 228.2 KiB |
############################################################################## ############################################################################## ### ### Running command: ### ### /home/biocbuild/bbs-3.12-bioc/R/bin/R CMD build --keep-empty-dirs --no-resave-data DropletTestFiles ### ############################################################################## ############################################################################## * checking for file ‘DropletTestFiles/DESCRIPTION’ ... OK * preparing ‘DropletTestFiles’: * checking DESCRIPTION meta-information ... OK * installing the package to build vignettes * creating vignettes ... OK * checking for LF line-endings in source and make files and shell scripts * checking for empty or unneeded directories * building ‘DropletTestFiles_1.0.0.tar.gz’