| Back to Build/check report for BioC 3.12 experimental data |
|
This page was generated on 2021-05-06 14:10:06 -0400 (Thu, 06 May 2021).
|
To the developers/maintainers of the CardinalWorkflows package: Please make sure to use the following settings in order to reproduce any error or warning you see on this page. |
| Package 45/398 | Hostname | OS / Arch | INSTALL | BUILD | CHECK | ||||||||
| CardinalWorkflows 1.22.0 (landing page) Kylie A. Bemis
| malbec1 | Linux (Ubuntu 18.04.5 LTS) / x86_64 | OK | OK | OK | ||||||||
| Package: CardinalWorkflows |
| Version: 1.22.0 |
| Command: /home/biocbuild/bbs-3.12-bioc/R/bin/R CMD build --keep-empty-dirs --no-resave-data CardinalWorkflows |
| StartedAt: 2021-05-06 10:22:20 -0400 (Thu, 06 May 2021) |
| EndedAt: 2021-05-06 10:33:52 -0400 (Thu, 06 May 2021) |
| EllapsedTime: 691.1 seconds |
| RetCode: 0 |
| Status: OK |
| PackageFile: CardinalWorkflows_1.22.0.tar.gz |
| PackageFileSize: 145 MiB |
############################################################################## ############################################################################## ### ### Running command: ### ### /home/biocbuild/bbs-3.12-bioc/R/bin/R CMD build --keep-empty-dirs --no-resave-data CardinalWorkflows ### ############################################################################## ############################################################################## * checking for file ‘CardinalWorkflows/DESCRIPTION’ ... OK * preparing ‘CardinalWorkflows’: * checking DESCRIPTION meta-information ... OK * installing the package to build vignettes * creating vignettes ... OK * checking for LF line-endings in source and make files and shell scripts * checking for empty or unneeded directories * looking to see if a ‘data/datalist’ file should be added * building ‘CardinalWorkflows_1.22.0.tar.gz’