| Back to Build/check report for BioC 3.12 experimental data |
|
This page was generated on 2021-05-06 14:10:06 -0400 (Thu, 06 May 2021).
|
To the developers/maintainers of the CONFESSdata package: Please make sure to use the following settings in order to reproduce any error or warning you see on this page. |
| Package 72/398 | Hostname | OS / Arch | INSTALL | BUILD | CHECK | ||||||||
| CONFESSdata 1.18.0 (landing page) Diana LOW
| malbec1 | Linux (Ubuntu 18.04.5 LTS) / x86_64 | OK | OK | OK | ||||||||
| Package: CONFESSdata |
| Version: 1.18.0 |
| Command: /home/biocbuild/bbs-3.12-bioc/R/bin/R CMD build --keep-empty-dirs --no-resave-data CONFESSdata |
| StartedAt: 2021-05-06 10:31:50 -0400 (Thu, 06 May 2021) |
| EndedAt: 2021-05-06 10:32:22 -0400 (Thu, 06 May 2021) |
| EllapsedTime: 31.5 seconds |
| RetCode: 0 |
| Status: OK |
| PackageFile: CONFESSdata_1.18.0.tar.gz |
| PackageFileSize: 9.832 MiB |
############################################################################## ############################################################################## ### ### Running command: ### ### /home/biocbuild/bbs-3.12-bioc/R/bin/R CMD build --keep-empty-dirs --no-resave-data CONFESSdata ### ############################################################################## ############################################################################## * checking for file ‘CONFESSdata/DESCRIPTION’ ... OK * preparing ‘CONFESSdata’: * checking DESCRIPTION meta-information ... OK * checking for LF line-endings in source and make files and shell scripts * checking for empty or unneeded directories * building ‘CONFESSdata_1.18.0.tar.gz’