| Back to Build/check report for BioC 3.12 experimental data |
|
This page was generated on 2021-05-06 14:10:06 -0400 (Thu, 06 May 2021).
|
To the developers/maintainers of the CLL package: Please make sure to use the following settings in order to reproduce any error or warning you see on this page. |
| Package 64/398 | Hostname | OS / Arch | INSTALL | BUILD | CHECK | ||||||||
| CLL 1.30.0 (landing page) Robert Gentleman
| malbec1 | Linux (Ubuntu 18.04.5 LTS) / x86_64 | OK | OK | OK | ||||||||
| Package: CLL |
| Version: 1.30.0 |
| Command: /home/biocbuild/bbs-3.12-bioc/R/bin/R CMD check --install=check:CLL.install-out.txt --library=/home/biocbuild/bbs-3.12-bioc/R/library --no-vignettes --timings CLL_1.30.0.tar.gz |
| StartedAt: 2021-05-06 11:46:10 -0400 (Thu, 06 May 2021) |
| EndedAt: 2021-05-06 11:46:44 -0400 (Thu, 06 May 2021) |
| EllapsedTime: 34.7 seconds |
| RetCode: 0 |
| Status: OK |
| CheckDir: CLL.Rcheck |
| Warnings: 0 |
##############################################################################
##############################################################################
###
### Running command:
###
### /home/biocbuild/bbs-3.12-bioc/R/bin/R CMD check --install=check:CLL.install-out.txt --library=/home/biocbuild/bbs-3.12-bioc/R/library --no-vignettes --timings CLL_1.30.0.tar.gz
###
##############################################################################
##############################################################################
* using log directory ‘/home/biocbuild/bbs-3.12-data-experiment/meat/CLL.Rcheck’
* using R version 4.0.5 (2021-03-31)
* using platform: x86_64-pc-linux-gnu (64-bit)
* using session charset: UTF-8
* using option ‘--no-vignettes’
* checking for file ‘CLL/DESCRIPTION’ ... OK
* checking extension type ... Package
* this is package ‘CLL’ version ‘1.30.0’
* checking package namespace information ... OK
* checking package dependencies ... OK
* checking if this is a source package ... OK
* checking if there is a namespace ... OK
* checking for hidden files and directories ... OK
* checking for portable file names ... OK
* checking for sufficient/correct file permissions ... OK
* checking whether package ‘CLL’ can be installed ... OK
* checking installed package size ... NOTE
installed size is 16.0Mb
sub-directories of 1Mb or more:
data 15.9Mb
* checking package directory ... OK
* checking DESCRIPTION meta-information ... OK
* checking top-level files ... OK
* checking for left-over files ... OK
* checking index information ... OK
* checking package subdirectories ... OK
* checking R files for non-ASCII characters ... OK
* checking R files for syntax errors ... OK
* checking whether the package can be loaded ... OK
* checking whether the package can be loaded with stated dependencies ... OK
* checking whether the package can be unloaded cleanly ... OK
* checking whether the namespace can be loaded with stated dependencies ... OK
* checking whether the namespace can be unloaded cleanly ... OK
* checking dependencies in R code ... NOTE
Packages in Depends field not imported from:
‘Biobase’ ‘affy’
These packages need to be imported from (in the NAMESPACE file)
for when this namespace is loaded but not attached.
* checking S3 generic/method consistency ... OK
* checking replacement functions ... OK
* checking foreign function calls ... OK
* checking R code for possible problems ... OK
* checking Rd files ... OK
* checking Rd metadata ... OK
* checking Rd cross-references ... OK
* checking for missing documentation entries ... OK
* checking for code/documentation mismatches ... OK
* checking Rd \usage sections ... OK
* checking Rd contents ... OK
* checking for unstated dependencies in examples ... OK
* checking contents of ‘data’ directory ... OK
* checking data for non-ASCII characters ... OK
* checking data for ASCII and uncompressed saves ... OK
* checking examples ... OK
* checking PDF version of manual ... OK
* DONE
Status: 2 NOTEs
See
‘/home/biocbuild/bbs-3.12-data-experiment/meat/CLL.Rcheck/00check.log’
for details.
CLL.Rcheck/00install.out
############################################################################## ############################################################################## ### ### Running command: ### ### /home/biocbuild/bbs-3.12-bioc/R/bin/R CMD INSTALL CLL ### ############################################################################## ############################################################################## * installing to library ‘/home/biocbuild/bbs-3.12-bioc/R/library’ * installing *source* package ‘CLL’ ... ** using staged installation ** R ** data ** byte-compile and prepare package for lazy loading ** help *** installing help indices ** building package indices ** testing if installed package can be loaded from temporary location ** testing if installed package can be loaded from final location ** testing if installed package keeps a record of temporary installation path * DONE (CLL)
CLL.Rcheck/CLL-Ex.timings
| name | user | system | elapsed | |
| CLL-package | 0.056 | 0.008 | 0.064 | |
| CLLbatch | 2.060 | 0.080 | 2.143 | |
| disease | 0.000 | 0.000 | 0.001 | |
| nsFilter | 0.064 | 0.004 | 0.069 | |
| sCLLex | 0.028 | 0.004 | 0.030 | |
| sFiltert | 0.068 | 0.004 | 0.073 | |
| sFiltertBH | 0.040 | 0.000 | 0.043 | |