| Back to Build/check report for BioC 3.12 experimental data |
|
This page was generated on 2021-05-06 14:10:05 -0400 (Thu, 06 May 2021).
|
To the developers/maintainers of the ASICSdata package: Please make sure to use the following settings in order to reproduce any error or warning you see on this page. |
| Package 20/398 | Hostname | OS / Arch | INSTALL | BUILD | CHECK | ||||||||
| ASICSdata 1.10.0 (landing page) Gaëlle Lefort
| malbec1 | Linux (Ubuntu 18.04.5 LTS) / x86_64 | OK | OK | OK | ||||||||
| Package: ASICSdata |
| Version: 1.10.0 |
| Command: /home/biocbuild/bbs-3.12-bioc/R/bin/R CMD build --keep-empty-dirs --no-resave-data ASICSdata |
| StartedAt: 2021-05-06 10:19:57 -0400 (Thu, 06 May 2021) |
| EndedAt: 2021-05-06 10:20:17 -0400 (Thu, 06 May 2021) |
| EllapsedTime: 19.6 seconds |
| RetCode: 0 |
| Status: OK |
| PackageFile: ASICSdata_1.10.0.tar.gz |
| PackageFileSize: 22.05 MiB |
############################################################################## ############################################################################## ### ### Running command: ### ### /home/biocbuild/bbs-3.12-bioc/R/bin/R CMD build --keep-empty-dirs --no-resave-data ASICSdata ### ############################################################################## ############################################################################## * checking for file ‘ASICSdata/DESCRIPTION’ ... OK * preparing ‘ASICSdata’: * checking DESCRIPTION meta-information ... OK * installing the package to build vignettes * creating vignettes ... OK * checking for LF line-endings in source and make files and shell scripts * checking for empty or unneeded directories * building ‘ASICSdata_1.10.0.tar.gz’