| Back to Multiple platform build/check report for BioC 3.12 |
|
This page was generated on 2021-05-06 12:34:14 -0400 (Thu, 06 May 2021).
|
To the developers/maintainers of the yarn package: Please make sure to use the following settings in order to reproduce any error or warning you see on this page. |
| Package 1970/1974 | Hostname | OS / Arch | INSTALL | BUILD | CHECK | BUILD BIN | ||||||||
| yarn 1.16.0 (landing page) Joseph N Paulson
| malbec1 | Linux (Ubuntu 18.04.5 LTS) / x86_64 | OK | OK | OK | |||||||||
| tokay1 | Windows Server 2012 R2 Standard / x64 | OK | OK | WARNINGS | OK | |||||||||
| merida1 | macOS 10.14.6 Mojave / x86_64 | OK | OK | OK | OK | |||||||||
| Package: yarn |
| Version: 1.16.0 |
| Command: rm -rf yarn.buildbin-libdir && mkdir yarn.buildbin-libdir && C:\Users\biocbuild\bbs-3.12-bioc\R\bin\R.exe CMD INSTALL --merge-multiarch --build --library=yarn.buildbin-libdir yarn_1.16.0.tar.gz |
| StartedAt: 2021-05-06 10:22:26 -0400 (Thu, 06 May 2021) |
| EndedAt: 2021-05-06 10:23:29 -0400 (Thu, 06 May 2021) |
| EllapsedTime: 63.6 seconds |
| RetCode: 0 |
| Status: OK |
| PackageFile: yarn_1.16.0.zip |
| PackageFileSize: 4.254 MiB |
##############################################################################
##############################################################################
###
### Running command:
###
### rm -rf yarn.buildbin-libdir && mkdir yarn.buildbin-libdir && C:\Users\biocbuild\bbs-3.12-bioc\R\bin\R.exe CMD INSTALL --merge-multiarch --build --library=yarn.buildbin-libdir yarn_1.16.0.tar.gz
###
##############################################################################
##############################################################################
install for i386
* installing *source* package 'yarn' ...
** using staged installation
** R
** data
*** moving datasets to lazyload DB
** inst
** byte-compile and prepare package for lazy loading
** help
*** installing help indices
converting help for package 'yarn'
finding HTML links ... done
annotateFromBiomart html
bladder html
Rd warning: C:/Users/biocbuild/bbs-3.12-bioc/tmpdir/RtmpUbu1ez/R.INSTALL2f7415056cd6/yarn/man/bladder.Rd:7: file link 'ExpressionSet' in package 'Biobase' does not exist and so has been treated as a topic
checkMisAnnotation html
checkTissuesToMerge html
downloadGTEx html
extractMatrix html
filterGenes html
filterLowGenes html
filterMissingGenes html
filterSamples html
normalizeTissueAware html
plotCMDS html
plotDensity html
plotHeatmap html
qsmooth html
qstats html
skin html
Rd warning: C:/Users/biocbuild/bbs-3.12-bioc/tmpdir/RtmpUbu1ez/R.INSTALL2f7415056cd6/yarn/man/skin.Rd:7: file link 'ExpressionSet' in package 'Biobase' does not exist and so has been treated as a topic
** building package indices
** installing vignettes
** testing if installed package can be loaded from temporary location
** testing if installed package can be loaded from final location
** testing if installed package keeps a record of temporary installation path
install for x64
* installing *source* package 'yarn' ...
** testing if installed package can be loaded
* MD5 sums
packaged installation of 'yarn' as yarn_1.16.0.zip
* DONE (yarn)