| Back to Multiple platform build/check report for BioC 3.12 |
|
This page was generated on 2021-05-06 12:34:12 -0400 (Thu, 06 May 2021).
|
To the developers/maintainers of the wiggleplotr package: Please make sure to use the following settings in order to reproduce any error or warning you see on this page. |
| Package 1955/1974 | Hostname | OS / Arch | INSTALL | BUILD | CHECK | BUILD BIN | ||||||||
| wiggleplotr 1.14.0 (landing page) Kaur Alasoo
| malbec1 | Linux (Ubuntu 18.04.5 LTS) / x86_64 | OK | OK | OK | |||||||||
| tokay1 | Windows Server 2012 R2 Standard / x64 | OK | OK | OK | OK | |||||||||
| merida1 | macOS 10.14.6 Mojave / x86_64 | OK | OK | OK | OK | |||||||||
| Package: wiggleplotr |
| Version: 1.14.0 |
| Command: rm -rf wiggleplotr.buildbin-libdir && mkdir wiggleplotr.buildbin-libdir && C:\Users\biocbuild\bbs-3.12-bioc\R\bin\R.exe CMD INSTALL --merge-multiarch --build --library=wiggleplotr.buildbin-libdir wiggleplotr_1.14.0.tar.gz |
| StartedAt: 2021-05-06 10:21:35 -0400 (Thu, 06 May 2021) |
| EndedAt: 2021-05-06 10:21:54 -0400 (Thu, 06 May 2021) |
| EllapsedTime: 18.4 seconds |
| RetCode: 0 |
| Status: OK |
| PackageFile: wiggleplotr_1.14.0.zip |
| PackageFileSize: 239.4 KiB |
##############################################################################
##############################################################################
###
### Running command:
###
### rm -rf wiggleplotr.buildbin-libdir && mkdir wiggleplotr.buildbin-libdir && C:\Users\biocbuild\bbs-3.12-bioc\R\bin\R.exe CMD INSTALL --merge-multiarch --build --library=wiggleplotr.buildbin-libdir wiggleplotr_1.14.0.tar.gz
###
##############################################################################
##############################################################################
install for i386
* installing *source* package 'wiggleplotr' ...
** using staged installation
** R
** data
*** moving datasets to lazyload DB
** inst
** byte-compile and prepare package for lazy loading
** help
*** installing help indices
converting help for package 'wiggleplotr'
finding HTML links ... done
getGenotypePalette html
makeManhattanPlot html
ncoa7_cdss html
ncoa7_exons html
ncoa7_metadata html
pasteFactors html
plotCoverage html
plotCoverageFromEnsembldb html
plotCoverageFromUCSC html
plotTranscripts html
plotTranscriptsFromEnsembldb html
plotTranscriptsFromUCSC html
wiggleplotr html
** building package indices
** installing vignettes
** testing if installed package can be loaded from temporary location
** testing if installed package can be loaded from final location
** testing if installed package keeps a record of temporary installation path
install for x64
* installing *source* package 'wiggleplotr' ...
** testing if installed package can be loaded
* MD5 sums
packaged installation of 'wiggleplotr' as wiggleplotr_1.14.0.zip
* DONE (wiggleplotr)