| Back to Multiple platform build/check report for BioC 3.12 |
|
This page was generated on 2021-05-06 12:34:10 -0400 (Thu, 06 May 2021).
|
To the developers/maintainers of the velociraptor package: Please make sure to use the following settings in order to reproduce any error or warning you see on this page. |
| Package 1938/1974 | Hostname | OS / Arch | INSTALL | BUILD | CHECK | BUILD BIN | ||||||||
| velociraptor 1.0.0 (landing page) Kevin Rue-Albrecht
| malbec1 | Linux (Ubuntu 18.04.5 LTS) / x86_64 | OK | OK | OK | |||||||||
| tokay1 | Windows Server 2012 R2 Standard / x64 | OK | OK | OK | OK | |||||||||
| merida1 | macOS 10.14.6 Mojave / x86_64 | OK | OK | OK | OK | |||||||||
| Package: velociraptor |
| Version: 1.0.0 |
| Command: rm -rf velociraptor.buildbin-libdir && mkdir velociraptor.buildbin-libdir && C:\Users\biocbuild\bbs-3.12-bioc\R\bin\R.exe --arch x64 CMD INSTALL --no-multiarch --build --library=velociraptor.buildbin-libdir velociraptor_1.0.0.tar.gz |
| StartedAt: 2021-05-06 10:20:36 -0400 (Thu, 06 May 2021) |
| EndedAt: 2021-05-06 10:21:11 -0400 (Thu, 06 May 2021) |
| EllapsedTime: 34.5 seconds |
| RetCode: 0 |
| Status: OK |
| PackageFile: velociraptor_1.0.0.zip |
| PackageFileSize: 564.5 KiB |
##############################################################################
##############################################################################
###
### Running command:
###
### rm -rf velociraptor.buildbin-libdir && mkdir velociraptor.buildbin-libdir && C:\Users\biocbuild\bbs-3.12-bioc\R\bin\R.exe --arch x64 CMD INSTALL --no-multiarch --build --library=velociraptor.buildbin-libdir velociraptor_1.0.0.tar.gz
###
##############################################################################
##############################################################################
* installing *source* package 'velociraptor' ...
** using non-staged installation via StagedInstall field
** R
** inst
** byte-compile and prepare package for lazy loading
** help
*** installing help indices
converting help for package 'velociraptor'
finding HTML links ... done
embedVelocity html
finding level-2 HTML links ... done
gridVectors html
scvelo html
velociraptor-package html
*** copying figures
** building package indices
** installing vignettes
** testing if installed package can be loaded
* MD5 sums
packaged installation of 'velociraptor' as velociraptor_1.0.0.zip
* DONE (velociraptor)