| Back to Multiple platform build/check report for BioC 3.12 |
|
This page was generated on 2021-05-06 12:34:09 -0400 (Thu, 06 May 2021).
|
To the developers/maintainers of the vbmp package: Please make sure to use the following settings in order to reproduce any error or warning you see on this page. |
| Package 1935/1974 | Hostname | OS / Arch | INSTALL | BUILD | CHECK | BUILD BIN | ||||||||
| vbmp 1.58.0 (landing page) Nicola Lama
| malbec1 | Linux (Ubuntu 18.04.5 LTS) / x86_64 | OK | OK | OK | |||||||||
| tokay1 | Windows Server 2012 R2 Standard / x64 | OK | OK | OK | OK | |||||||||
| merida1 | macOS 10.14.6 Mojave / x86_64 | OK | OK | OK | OK | |||||||||
| Package: vbmp |
| Version: 1.58.0 |
| Command: rm -rf vbmp.buildbin-libdir && mkdir vbmp.buildbin-libdir && C:\Users\biocbuild\bbs-3.12-bioc\R\bin\R.exe CMD INSTALL --merge-multiarch --build --library=vbmp.buildbin-libdir vbmp_1.58.0.tar.gz |
| StartedAt: 2021-05-06 10:20:26 -0400 (Thu, 06 May 2021) |
| EndedAt: 2021-05-06 10:20:47 -0400 (Thu, 06 May 2021) |
| EllapsedTime: 21.0 seconds |
| RetCode: 0 |
| Status: OK |
| PackageFile: vbmp_1.58.0.zip |
| PackageFileSize: 1.735 MiB |
##############################################################################
##############################################################################
###
### Running command:
###
### rm -rf vbmp.buildbin-libdir && mkdir vbmp.buildbin-libdir && C:\Users\biocbuild\bbs-3.12-bioc\R\bin\R.exe CMD INSTALL --merge-multiarch --build --library=vbmp.buildbin-libdir vbmp_1.58.0.tar.gz
###
##############################################################################
##############################################################################
install for i386
* installing *source* package 'vbmp' ...
** using staged installation
** R
** data
** inst
** byte-compile and prepare package for lazy loading
** help
*** installing help indices
converting help for package 'vbmp'
finding HTML links ... done
BRCA12 html
covParams html
lowerBound html
plotDiagnostics html
predClass html
predError html
predLik html
predictCPP html
vbmp html
** building package indices
** installing vignettes
** testing if installed package can be loaded from temporary location
** testing if installed package can be loaded from final location
** testing if installed package keeps a record of temporary installation path
install for x64
* installing *source* package 'vbmp' ...
** testing if installed package can be loaded
* MD5 sums
packaged installation of 'vbmp' as vbmp_1.58.0.zip
* DONE (vbmp)