| Back to Multiple platform build/check report for BioC 3.12 |
|
This page was generated on 2021-05-06 12:34:07 -0400 (Thu, 06 May 2021).
|
To the developers/maintainers of the unifiedWMWqPCR package: Please make sure to use the following settings in order to reproduce any error or warning you see on this page. |
| Package 1923/1974 | Hostname | OS / Arch | INSTALL | BUILD | CHECK | BUILD BIN | ||||||||
| unifiedWMWqPCR 1.26.0 (landing page) Joris Meys
| malbec1 | Linux (Ubuntu 18.04.5 LTS) / x86_64 | OK | OK | WARNINGS | |||||||||
| tokay1 | Windows Server 2012 R2 Standard / x64 | OK | OK | WARNINGS | OK | |||||||||
| merida1 | macOS 10.14.6 Mojave / x86_64 | OK | OK | WARNINGS | OK | |||||||||
| Package: unifiedWMWqPCR |
| Version: 1.26.0 |
| Command: C:\cygwin\bin\curl.exe -O http://172.29.0.3/BBS/3.12/bioc/src/contrib/unifiedWMWqPCR_1.26.0.tar.gz && rm -rf unifiedWMWqPCR.buildbin-libdir && mkdir unifiedWMWqPCR.buildbin-libdir && C:\Users\biocbuild\bbs-3.12-bioc\R\bin\R.exe CMD INSTALL --merge-multiarch --build --library=unifiedWMWqPCR.buildbin-libdir unifiedWMWqPCR_1.26.0.tar.gz && C:\Users\biocbuild\bbs-3.12-bioc\R\bin\R.exe CMD INSTALL unifiedWMWqPCR_1.26.0.zip && rm unifiedWMWqPCR_1.26.0.tar.gz unifiedWMWqPCR_1.26.0.zip |
| StartedAt: 2021-05-05 17:08:26 -0400 (Wed, 05 May 2021) |
| EndedAt: 2021-05-05 17:09:01 -0400 (Wed, 05 May 2021) |
| EllapsedTime: 34.7 seconds |
| RetCode: 0 |
| Status: OK |
##############################################################################
##############################################################################
###
### Running command:
###
### C:\cygwin\bin\curl.exe -O http://172.29.0.3/BBS/3.12/bioc/src/contrib/unifiedWMWqPCR_1.26.0.tar.gz && rm -rf unifiedWMWqPCR.buildbin-libdir && mkdir unifiedWMWqPCR.buildbin-libdir && C:\Users\biocbuild\bbs-3.12-bioc\R\bin\R.exe CMD INSTALL --merge-multiarch --build --library=unifiedWMWqPCR.buildbin-libdir unifiedWMWqPCR_1.26.0.tar.gz && C:\Users\biocbuild\bbs-3.12-bioc\R\bin\R.exe CMD INSTALL unifiedWMWqPCR_1.26.0.zip && rm unifiedWMWqPCR_1.26.0.tar.gz unifiedWMWqPCR_1.26.0.zip
###
##############################################################################
##############################################################################
% Total % Received % Xferd Average Speed Time Time Time Current
Dload Upload Total Spent Left Speed
0 0 0 0 0 0 0 0 --:--:-- --:--:-- --:--:-- 0
100 310k 100 310k 0 0 19.1M 0 --:--:-- --:--:-- --:--:-- 20.2M
install for i386
* installing *source* package 'unifiedWMWqPCR' ...
** using staged installation
** R
** data
** inst
** byte-compile and prepare package for lazy loading
Creating a generic function for 'order' from package 'base' in package 'unifiedWMWqPCR'
** help
*** installing help indices
converting help for package 'unifiedWMWqPCR'
finding HTML links ... done
NBdata html
as.matrix.uwmwEstimate html
as.matrix.uwmwRes html
forestplot-methods html
getEstimate-methods html
plot html
sort_uwmwRes html
uWMW-methods html
unifiedWMWqPCR-package html
uwmwEstimate-class html
uwmwRes-class html
uwmw_Accessors html
uwmw_Extract html
volcanopar html
volcanoplot-methods html
** building package indices
** installing vignettes
** testing if installed package can be loaded from temporary location
** testing if installed package can be loaded from final location
** testing if installed package keeps a record of temporary installation path
install for x64
* installing *source* package 'unifiedWMWqPCR' ...
** testing if installed package can be loaded
* MD5 sums
packaged installation of 'unifiedWMWqPCR' as unifiedWMWqPCR_1.26.0.zip
* DONE (unifiedWMWqPCR)
* installing to library 'C:/Users/biocbuild/bbs-3.12-bioc/R/library'
package 'unifiedWMWqPCR' successfully unpacked and MD5 sums checked