| Back to Multiple platform build/check report for BioC 3.12 |
|
This page was generated on 2021-05-06 12:34:04 -0400 (Thu, 06 May 2021).
|
To the developers/maintainers of the tweeDEseq package: Please make sure to use the following settings in order to reproduce any error or warning you see on this page. |
| Package 1912/1974 | Hostname | OS / Arch | INSTALL | BUILD | CHECK | BUILD BIN | ||||||||
| tweeDEseq 1.36.0 (landing page) Juan R Gonzalez
| malbec1 | Linux (Ubuntu 18.04.5 LTS) / x86_64 | OK | OK | OK | |||||||||
| tokay1 | Windows Server 2012 R2 Standard / x64 | OK | OK | WARNINGS | OK | |||||||||
| merida1 | macOS 10.14.6 Mojave / x86_64 | OK | OK | OK | OK | |||||||||
| Package: tweeDEseq |
| Version: 1.36.0 |
| Command: rm -rf tweeDEseq.buildbin-libdir && mkdir tweeDEseq.buildbin-libdir && C:\Users\biocbuild\bbs-3.12-bioc\R\bin\R.exe CMD INSTALL --merge-multiarch --build --library=tweeDEseq.buildbin-libdir tweeDEseq_1.36.0.tar.gz |
| StartedAt: 2021-05-06 10:19:12 -0400 (Thu, 06 May 2021) |
| EndedAt: 2021-05-06 10:20:01 -0400 (Thu, 06 May 2021) |
| EllapsedTime: 48.6 seconds |
| RetCode: 0 |
| Status: OK |
| PackageFile: tweeDEseq_1.36.0.zip |
| PackageFileSize: 519 KiB |
##############################################################################
##############################################################################
###
### Running command:
###
### rm -rf tweeDEseq.buildbin-libdir && mkdir tweeDEseq.buildbin-libdir && C:\Users\biocbuild\bbs-3.12-bioc\R\bin\R.exe CMD INSTALL --merge-multiarch --build --library=tweeDEseq.buildbin-libdir tweeDEseq_1.36.0.tar.gz
###
##############################################################################
##############################################################################
install for i386
* installing *source* package 'tweeDEseq' ...
** using staged installation
** libs
"C:/rtools40/mingw32/bin/"gcc -I"C:/Users/BIOCBU~1/BBS-3~1.12-/R/include" -DNDEBUG -I"C:/extsoft/include" -O2 -Wall -std=gnu99 -mfpmath=sse -msse2 -mstackrealign -c cov_wt_C.c -o cov_wt_C.o
cov_wt_C.c: In function 'cov_wt_C':
cov_wt_C.c:79:14: warning: 'wvar' may be used uninitialized in this function [-Wmaybe-uninitialized]
free(aux), free(wvar), free(y);
^~~~~~~~~~
cov_wt_C.c: In function 'momentEstimates_wt_C':
cov_wt_C.c:154:12: warning: 'moments' may be used uninitialized in this function [-Wmaybe-uninitialized]
free(y), free(moments), free(aux);
^~~~~~~~~~~~~
"C:/rtools40/mingw32/bin/"gcc -I"C:/Users/BIOCBU~1/BBS-3~1.12-/R/include" -DNDEBUG -I"C:/extsoft/include" -O2 -Wall -std=gnu99 -mfpmath=sse -msse2 -mstackrealign -c init_tweeDEseq.c -o init_tweeDEseq.o
"C:/rtools40/mingw32/bin/"gcc -I"C:/Users/BIOCBU~1/BBS-3~1.12-/R/include" -DNDEBUG -I"C:/extsoft/include" -O2 -Wall -std=gnu99 -mfpmath=sse -msse2 -mstackrealign -c loglikGlm.c -o loglikGlm.o
"C:/rtools40/mingw32/bin/"gcc -I"C:/Users/BIOCBU~1/BBS-3~1.12-/R/include" -DNDEBUG -I"C:/extsoft/include" -O2 -Wall -std=gnu99 -mfpmath=sse -msse2 -mstackrealign -c logprobs.c -o logprobs.o
"C:/rtools40/mingw32/bin/"gcc -I"C:/Users/BIOCBU~1/BBS-3~1.12-/R/include" -DNDEBUG -I"C:/extsoft/include" -O2 -Wall -std=gnu99 -mfpmath=sse -msse2 -mstackrealign -c permtest.c -o permtest.o
"C:/rtools40/mingw32/bin/"gcc -I"C:/Users/BIOCBU~1/BBS-3~1.12-/R/include" -DNDEBUG -I"C:/extsoft/include" -O2 -Wall -std=gnu99 -mfpmath=sse -msse2 -mstackrealign -c probs.c -o probs.o
"C:/rtools40/mingw32/bin/"gcc -I"C:/Users/BIOCBU~1/BBS-3~1.12-/R/include" -DNDEBUG -I"C:/extsoft/include" -O2 -Wall -std=gnu99 -mfpmath=sse -msse2 -mstackrealign -c zhu2.c -o zhu2.o
"C:/rtools40/mingw32/bin/"gcc -I"C:/Users/BIOCBU~1/BBS-3~1.12-/R/include" -DNDEBUG -I"C:/extsoft/include" -O2 -Wall -std=gnu99 -mfpmath=sse -msse2 -mstackrealign -c zhu3.c -o zhu3.o
C:/rtools40/mingw32/bin/gcc -shared -s -static-libgcc -o tweeDEseq.dll tmp.def cov_wt_C.o init_tweeDEseq.o loglikGlm.o logprobs.o permtest.o probs.o zhu2.o zhu3.o -LC:/extsoft/lib/i386 -LC:/extsoft/lib -LC:/Users/BIOCBU~1/BBS-3~1.12-/R/bin/i386 -lR
installing to C:/Users/biocbuild/bbs-3.12-bioc/meat/tweeDEseq.buildbin-libdir/00LOCK-tweeDEseq/00new/tweeDEseq/libs/i386
** R
** data
** inst
** byte-compile and prepare package for lazy loading
** help
*** installing help indices
converting help for package 'tweeDEseq'
finding HTML links ... done
compareCountDistributions html
distPoissonTweedie html
filterCounts html
glmPT html
gofTest html
mlePoissonTweedie html
normalizeCounts html
Rd warning: C:/Users/biocbuild/bbs-3.12-bioc/tmpdir/RtmpOGnP3b/R.INSTALL44a437193982/tweeDEseq/man/normalizeCounts.Rd:64: file link 'edgeR' in package 'edgeR' does not exist and so has been treated as a topic
print.mlePT html
qqchisq html
finding level-2 HTML links ... done
seizure html
testShapePT html
tweeDE html
tweeDEseq-internal html
tweeDExact html
** building package indices
** installing vignettes
** testing if installed package can be loaded from temporary location
** testing if installed package can be loaded from final location
** testing if installed package keeps a record of temporary installation path
install for x64
* installing *source* package 'tweeDEseq' ...
** libs
"C:/rtools40/mingw64/bin/"gcc -I"C:/Users/BIOCBU~1/BBS-3~1.12-/R/include" -DNDEBUG -I"C:/extsoft/include" -O2 -Wall -std=gnu99 -mfpmath=sse -msse2 -mstackrealign -c cov_wt_C.c -o cov_wt_C.o
cov_wt_C.c: In function 'cov_wt_C':
cov_wt_C.c:79:14: warning: 'wvar' may be used uninitialized in this function [-Wmaybe-uninitialized]
free(aux), free(wvar), free(y);
^~~~~~~~~~
cov_wt_C.c: In function 'momentEstimates_wt_C':
cov_wt_C.c:154:12: warning: 'moments' may be used uninitialized in this function [-Wmaybe-uninitialized]
free(y), free(moments), free(aux);
^~~~~~~~~~~~~
"C:/rtools40/mingw64/bin/"gcc -I"C:/Users/BIOCBU~1/BBS-3~1.12-/R/include" -DNDEBUG -I"C:/extsoft/include" -O2 -Wall -std=gnu99 -mfpmath=sse -msse2 -mstackrealign -c init_tweeDEseq.c -o init_tweeDEseq.o
"C:/rtools40/mingw64/bin/"gcc -I"C:/Users/BIOCBU~1/BBS-3~1.12-/R/include" -DNDEBUG -I"C:/extsoft/include" -O2 -Wall -std=gnu99 -mfpmath=sse -msse2 -mstackrealign -c loglikGlm.c -o loglikGlm.o
"C:/rtools40/mingw64/bin/"gcc -I"C:/Users/BIOCBU~1/BBS-3~1.12-/R/include" -DNDEBUG -I"C:/extsoft/include" -O2 -Wall -std=gnu99 -mfpmath=sse -msse2 -mstackrealign -c logprobs.c -o logprobs.o
"C:/rtools40/mingw64/bin/"gcc -I"C:/Users/BIOCBU~1/BBS-3~1.12-/R/include" -DNDEBUG -I"C:/extsoft/include" -O2 -Wall -std=gnu99 -mfpmath=sse -msse2 -mstackrealign -c permtest.c -o permtest.o
"C:/rtools40/mingw64/bin/"gcc -I"C:/Users/BIOCBU~1/BBS-3~1.12-/R/include" -DNDEBUG -I"C:/extsoft/include" -O2 -Wall -std=gnu99 -mfpmath=sse -msse2 -mstackrealign -c probs.c -o probs.o
"C:/rtools40/mingw64/bin/"gcc -I"C:/Users/BIOCBU~1/BBS-3~1.12-/R/include" -DNDEBUG -I"C:/extsoft/include" -O2 -Wall -std=gnu99 -mfpmath=sse -msse2 -mstackrealign -c zhu2.c -o zhu2.o
"C:/rtools40/mingw64/bin/"gcc -I"C:/Users/BIOCBU~1/BBS-3~1.12-/R/include" -DNDEBUG -I"C:/extsoft/include" -O2 -Wall -std=gnu99 -mfpmath=sse -msse2 -mstackrealign -c zhu3.c -o zhu3.o
C:/rtools40/mingw64/bin/gcc -shared -s -static-libgcc -o tweeDEseq.dll tmp.def cov_wt_C.o init_tweeDEseq.o loglikGlm.o logprobs.o permtest.o probs.o zhu2.o zhu3.o -LC:/extsoft/lib/x64 -LC:/extsoft/lib -LC:/Users/BIOCBU~1/BBS-3~1.12-/R/bin/x64 -lR
installing to C:/Users/biocbuild/bbs-3.12-bioc/meat/tweeDEseq.buildbin-libdir/tweeDEseq/libs/x64
** testing if installed package can be loaded
* MD5 sums
packaged installation of 'tweeDEseq' as tweeDEseq_1.36.0.zip
* DONE (tweeDEseq)