| Back to Multiple platform build/check report for BioC 3.12 |
|
This page was generated on 2021-05-06 12:37:17 -0400 (Thu, 06 May 2021).
|
To the developers/maintainers of the tscR package: Please make sure to use the following settings in order to reproduce any error or warning you see on this page. |
| Package 1906/1974 | Hostname | OS / Arch | INSTALL | BUILD | CHECK | BUILD BIN | ||||||||
| tscR 1.2.0 (landing page) Pérez-Sanz, Fernando
| malbec1 | Linux (Ubuntu 18.04.5 LTS) / x86_64 | OK | OK | OK | |||||||||
| tokay1 | Windows Server 2012 R2 Standard / x64 | OK | OK | OK | OK | |||||||||
| merida1 | macOS 10.14.6 Mojave / x86_64 | ERROR | ERROR | skipped | skipped | |||||||||
| Package: tscR |
| Version: 1.2.0 |
| Command: /Library/Frameworks/R.framework/Versions/Current/Resources/bin/R CMD build --keep-empty-dirs --no-resave-data tscR |
| StartedAt: 2021-05-05 22:41:45 -0400 (Wed, 05 May 2021) |
| EndedAt: 2021-05-05 22:41:48 -0400 (Wed, 05 May 2021) |
| EllapsedTime: 3.1 seconds |
| RetCode: 1 |
| Status: ERROR |
| PackageFile: None |
| PackageFileSize: NA |
##############################################################################
##############################################################################
###
### Running command:
###
### /Library/Frameworks/R.framework/Versions/Current/Resources/bin/R CMD build --keep-empty-dirs --no-resave-data tscR
###
##############################################################################
##############################################################################
* checking for file ‘tscR/DESCRIPTION’ ... OK
* preparing ‘tscR’:
* checking DESCRIPTION meta-information ... OK
* cleaning src
* installing the package to build vignettes
-----------------------------------
* installing *source* package ‘tscR’ ...
** using staged installation
** libs
clang -mmacosx-version-min=10.13 -I"/Library/Frameworks/R.framework/Resources/include" -DNDEBUG -I/usr/local/include -fPIC -Wall -g -O2 -c tscR.c -o tscR.o
clang -mmacosx-version-min=10.13 -I"/Library/Frameworks/R.framework/Resources/include" -DNDEBUG -I/usr/local/include -fPIC -Wall -g -O2 -c tscR_init.c -o tscR_init.o
clang -mmacosx-version-min=10.13 -dynamiclib -Wl,-headerpad_max_install_names -undefined dynamic_lookup -single_module -multiply_defined suppress -L/Library/Frameworks/R.framework/Resources/lib -L/usr/local/lib -o tscR.so tscR.o tscR_init.o -F/Library/Frameworks/R.framework/.. -framework R -Wl,-framework -Wl,CoreFoundation
installing to /private/tmp/Rtmpxw0dak/Rinstd57b47609d97/00LOCK-tscR/00new/tscR/libs
** R
** data
** byte-compile and prepare package for lazy loading
ERROR: lazy loading failed for package ‘tscR’
* removing ‘/private/tmp/Rtmpxw0dak/Rinstd57b47609d97/tscR’
-----------------------------------
ERROR: package installation failed