| Back to Multiple platform build/check report for BioC 3.12 |
|
This page was generated on 2021-05-06 12:34:03 -0400 (Thu, 06 May 2021).
|
To the developers/maintainers of the triplex package: Please make sure to use the following settings in order to reproduce any error or warning you see on this page. |
| Package 1900/1974 | Hostname | OS / Arch | INSTALL | BUILD | CHECK | BUILD BIN | ||||||||
| triplex 1.30.0 (landing page) Jiri Hon
| malbec1 | Linux (Ubuntu 18.04.5 LTS) / x86_64 | OK | OK | OK | |||||||||
| tokay1 | Windows Server 2012 R2 Standard / x64 | OK | OK | OK | OK | |||||||||
| merida1 | macOS 10.14.6 Mojave / x86_64 | OK | OK | OK | OK | |||||||||
| Package: triplex |
| Version: 1.30.0 |
| Command: rm -rf triplex.buildbin-libdir && mkdir triplex.buildbin-libdir && C:\Users\biocbuild\bbs-3.12-bioc\R\bin\R.exe CMD INSTALL --merge-multiarch --build --library=triplex.buildbin-libdir triplex_1.30.0.tar.gz |
| StartedAt: 2021-05-06 10:18:33 -0400 (Thu, 06 May 2021) |
| EndedAt: 2021-05-06 10:19:16 -0400 (Thu, 06 May 2021) |
| EllapsedTime: 42.5 seconds |
| RetCode: 0 |
| Status: OK |
| PackageFile: triplex_1.30.0.zip |
| PackageFileSize: 999.7 KiB |
##############################################################################
##############################################################################
###
### Running command:
###
### rm -rf triplex.buildbin-libdir && mkdir triplex.buildbin-libdir && C:\Users\biocbuild\bbs-3.12-bioc\R\bin\R.exe CMD INSTALL --merge-multiarch --build --library=triplex.buildbin-libdir triplex_1.30.0.tar.gz
###
##############################################################################
##############################################################################
install for i386
* installing *source* package 'triplex' ...
** using staged installation
** libs
"C:/rtools40/mingw32/bin/"gcc -I"C:/Users/BIOCBU~1/BBS-3~1.12-/R/include" -DNDEBUG -I'C:/Users/biocbuild/bbs-3.12-bioc/R/library/S4Vectors/include' -I'C:/Users/biocbuild/bbs-3.12-bioc/R/library/IRanges/include' -I'C:/Users/biocbuild/bbs-3.12-bioc/R/library/XVector/include' -I'C:/Users/biocbuild/bbs-3.12-bioc/R/library/Biostrings/include' -I"C:/extsoft/include" -O2 -Wall -std=gnu99 -mfpmath=sse -msse2 -mstackrealign -c Biostrings_stubs.c -o Biostrings_stubs.o
"C:/rtools40/mingw32/bin/"gcc -I"C:/Users/BIOCBU~1/BBS-3~1.12-/R/include" -DNDEBUG -I'C:/Users/biocbuild/bbs-3.12-bioc/R/library/S4Vectors/include' -I'C:/Users/biocbuild/bbs-3.12-bioc/R/library/IRanges/include' -I'C:/Users/biocbuild/bbs-3.12-bioc/R/library/XVector/include' -I'C:/Users/biocbuild/bbs-3.12-bioc/R/library/Biostrings/include' -I"C:/extsoft/include" -O2 -Wall -std=gnu99 -mfpmath=sse -msse2 -mstackrealign -c IRanges_stubs.c -o IRanges_stubs.o
"C:/rtools40/mingw32/bin/"gcc -I"C:/Users/BIOCBU~1/BBS-3~1.12-/R/include" -DNDEBUG -I'C:/Users/biocbuild/bbs-3.12-bioc/R/library/S4Vectors/include' -I'C:/Users/biocbuild/bbs-3.12-bioc/R/library/IRanges/include' -I'C:/Users/biocbuild/bbs-3.12-bioc/R/library/XVector/include' -I'C:/Users/biocbuild/bbs-3.12-bioc/R/library/Biostrings/include' -I"C:/extsoft/include" -O2 -Wall -std=gnu99 -mfpmath=sse -msse2 -mstackrealign -c R_init_triplex.c -o R_init_triplex.o
"C:/rtools40/mingw32/bin/"gcc -I"C:/Users/BIOCBU~1/BBS-3~1.12-/R/include" -DNDEBUG -I'C:/Users/biocbuild/bbs-3.12-bioc/R/library/S4Vectors/include' -I'C:/Users/biocbuild/bbs-3.12-bioc/R/library/IRanges/include' -I'C:/Users/biocbuild/bbs-3.12-bioc/R/library/XVector/include' -I'C:/Users/biocbuild/bbs-3.12-bioc/R/library/Biostrings/include' -I"C:/extsoft/include" -O2 -Wall -std=gnu99 -mfpmath=sse -msse2 -mstackrealign -c XVector_stubs.c -o XVector_stubs.o
"C:/rtools40/mingw32/bin/"gcc -I"C:/Users/BIOCBU~1/BBS-3~1.12-/R/include" -DNDEBUG -I'C:/Users/biocbuild/bbs-3.12-bioc/R/library/S4Vectors/include' -I'C:/Users/biocbuild/bbs-3.12-bioc/R/library/IRanges/include' -I'C:/Users/biocbuild/bbs-3.12-bioc/R/library/XVector/include' -I'C:/Users/biocbuild/bbs-3.12-bioc/R/library/Biostrings/include' -I"C:/extsoft/include" -O2 -Wall -std=gnu99 -mfpmath=sse -msse2 -mstackrealign -c align.c -o align.o
"C:/rtools40/mingw32/bin/"gcc -I"C:/Users/BIOCBU~1/BBS-3~1.12-/R/include" -DNDEBUG -I'C:/Users/biocbuild/bbs-3.12-bioc/R/library/S4Vectors/include' -I'C:/Users/biocbuild/bbs-3.12-bioc/R/library/IRanges/include' -I'C:/Users/biocbuild/bbs-3.12-bioc/R/library/XVector/include' -I'C:/Users/biocbuild/bbs-3.12-bioc/R/library/Biostrings/include' -I"C:/extsoft/include" -O2 -Wall -std=gnu99 -mfpmath=sse -msse2 -mstackrealign -c align_interface.c -o align_interface.o
"C:/rtools40/mingw32/bin/"gcc -I"C:/Users/BIOCBU~1/BBS-3~1.12-/R/include" -DNDEBUG -I'C:/Users/biocbuild/bbs-3.12-bioc/R/library/S4Vectors/include' -I'C:/Users/biocbuild/bbs-3.12-bioc/R/library/IRanges/include' -I'C:/Users/biocbuild/bbs-3.12-bioc/R/library/XVector/include' -I'C:/Users/biocbuild/bbs-3.12-bioc/R/library/Biostrings/include' -I"C:/extsoft/include" -O2 -Wall -std=gnu99 -mfpmath=sse -msse2 -mstackrealign -c dl_list.c -o dl_list.o
"C:/rtools40/mingw32/bin/"gcc -I"C:/Users/BIOCBU~1/BBS-3~1.12-/R/include" -DNDEBUG -I'C:/Users/biocbuild/bbs-3.12-bioc/R/library/S4Vectors/include' -I'C:/Users/biocbuild/bbs-3.12-bioc/R/library/IRanges/include' -I'C:/Users/biocbuild/bbs-3.12-bioc/R/library/XVector/include' -I'C:/Users/biocbuild/bbs-3.12-bioc/R/library/Biostrings/include' -I"C:/extsoft/include" -O2 -Wall -std=gnu99 -mfpmath=sse -msse2 -mstackrealign -c interval.c -o interval.o
"C:/rtools40/mingw32/bin/"gcc -I"C:/Users/BIOCBU~1/BBS-3~1.12-/R/include" -DNDEBUG -I'C:/Users/biocbuild/bbs-3.12-bioc/R/library/S4Vectors/include' -I'C:/Users/biocbuild/bbs-3.12-bioc/R/library/IRanges/include' -I'C:/Users/biocbuild/bbs-3.12-bioc/R/library/XVector/include' -I'C:/Users/biocbuild/bbs-3.12-bioc/R/library/Biostrings/include' -I"C:/extsoft/include" -O2 -Wall -std=gnu99 -mfpmath=sse -msse2 -mstackrealign -c libtriplex.c -o libtriplex.o
"C:/rtools40/mingw32/bin/"gcc -I"C:/Users/BIOCBU~1/BBS-3~1.12-/R/include" -DNDEBUG -I'C:/Users/biocbuild/bbs-3.12-bioc/R/library/S4Vectors/include' -I'C:/Users/biocbuild/bbs-3.12-bioc/R/library/IRanges/include' -I'C:/Users/biocbuild/bbs-3.12-bioc/R/library/XVector/include' -I'C:/Users/biocbuild/bbs-3.12-bioc/R/library/Biostrings/include' -I"C:/extsoft/include" -O2 -Wall -std=gnu99 -mfpmath=sse -msse2 -mstackrealign -c progress.c -o progress.o
"C:/rtools40/mingw32/bin/"gcc -I"C:/Users/BIOCBU~1/BBS-3~1.12-/R/include" -DNDEBUG -I'C:/Users/biocbuild/bbs-3.12-bioc/R/library/S4Vectors/include' -I'C:/Users/biocbuild/bbs-3.12-bioc/R/library/IRanges/include' -I'C:/Users/biocbuild/bbs-3.12-bioc/R/library/XVector/include' -I'C:/Users/biocbuild/bbs-3.12-bioc/R/library/Biostrings/include' -I"C:/extsoft/include" -O2 -Wall -std=gnu99 -mfpmath=sse -msse2 -mstackrealign -c search.c -o search.o
"C:/rtools40/mingw32/bin/"gcc -I"C:/Users/BIOCBU~1/BBS-3~1.12-/R/include" -DNDEBUG -I'C:/Users/biocbuild/bbs-3.12-bioc/R/library/S4Vectors/include' -I'C:/Users/biocbuild/bbs-3.12-bioc/R/library/IRanges/include' -I'C:/Users/biocbuild/bbs-3.12-bioc/R/library/XVector/include' -I'C:/Users/biocbuild/bbs-3.12-bioc/R/library/Biostrings/include' -I"C:/extsoft/include" -O2 -Wall -std=gnu99 -mfpmath=sse -msse2 -mstackrealign -c search_interface.c -o search_interface.o
C:/rtools40/mingw32/bin/gcc -shared -s -static-libgcc -o triplex.dll tmp.def Biostrings_stubs.o IRanges_stubs.o R_init_triplex.o XVector_stubs.o align.o align_interface.o dl_list.o interval.o libtriplex.o progress.o search.o search_interface.o -LC:/extsoft/lib/i386 -LC:/extsoft/lib -LC:/Users/BIOCBU~1/BBS-3~1.12-/R/bin/i386 -lR
installing to C:/Users/biocbuild/bbs-3.12-bioc/meat/triplex.buildbin-libdir/00LOCK-triplex/00new/triplex/libs/i386
** R
** inst
** byte-compile and prepare package for lazy loading
** help
*** installing help indices
converting help for package 'triplex'
finding HTML links ... done
TriplexViews-class html
finding level-2 HTML links ... done
ins html
lend html
lstart html
lwidth html
pvalue html
triplex-package html
triplex.3D html
triplex.alignment html
triplex.diagram html
triplex.group.table html
triplex.score.table html
triplex.search html
*** copying figures
** building package indices
** installing vignettes
** testing if installed package can be loaded from temporary location
** testing if installed package can be loaded from final location
** testing if installed package keeps a record of temporary installation path
install for x64
* installing *source* package 'triplex' ...
** libs
"C:/rtools40/mingw64/bin/"gcc -I"C:/Users/BIOCBU~1/BBS-3~1.12-/R/include" -DNDEBUG -I'C:/Users/biocbuild/bbs-3.12-bioc/R/library/S4Vectors/include' -I'C:/Users/biocbuild/bbs-3.12-bioc/R/library/IRanges/include' -I'C:/Users/biocbuild/bbs-3.12-bioc/R/library/XVector/include' -I'C:/Users/biocbuild/bbs-3.12-bioc/R/library/Biostrings/include' -I"C:/extsoft/include" -O2 -Wall -std=gnu99 -mfpmath=sse -msse2 -mstackrealign -c Biostrings_stubs.c -o Biostrings_stubs.o
"C:/rtools40/mingw64/bin/"gcc -I"C:/Users/BIOCBU~1/BBS-3~1.12-/R/include" -DNDEBUG -I'C:/Users/biocbuild/bbs-3.12-bioc/R/library/S4Vectors/include' -I'C:/Users/biocbuild/bbs-3.12-bioc/R/library/IRanges/include' -I'C:/Users/biocbuild/bbs-3.12-bioc/R/library/XVector/include' -I'C:/Users/biocbuild/bbs-3.12-bioc/R/library/Biostrings/include' -I"C:/extsoft/include" -O2 -Wall -std=gnu99 -mfpmath=sse -msse2 -mstackrealign -c IRanges_stubs.c -o IRanges_stubs.o
"C:/rtools40/mingw64/bin/"gcc -I"C:/Users/BIOCBU~1/BBS-3~1.12-/R/include" -DNDEBUG -I'C:/Users/biocbuild/bbs-3.12-bioc/R/library/S4Vectors/include' -I'C:/Users/biocbuild/bbs-3.12-bioc/R/library/IRanges/include' -I'C:/Users/biocbuild/bbs-3.12-bioc/R/library/XVector/include' -I'C:/Users/biocbuild/bbs-3.12-bioc/R/library/Biostrings/include' -I"C:/extsoft/include" -O2 -Wall -std=gnu99 -mfpmath=sse -msse2 -mstackrealign -c R_init_triplex.c -o R_init_triplex.o
"C:/rtools40/mingw64/bin/"gcc -I"C:/Users/BIOCBU~1/BBS-3~1.12-/R/include" -DNDEBUG -I'C:/Users/biocbuild/bbs-3.12-bioc/R/library/S4Vectors/include' -I'C:/Users/biocbuild/bbs-3.12-bioc/R/library/IRanges/include' -I'C:/Users/biocbuild/bbs-3.12-bioc/R/library/XVector/include' -I'C:/Users/biocbuild/bbs-3.12-bioc/R/library/Biostrings/include' -I"C:/extsoft/include" -O2 -Wall -std=gnu99 -mfpmath=sse -msse2 -mstackrealign -c XVector_stubs.c -o XVector_stubs.o
"C:/rtools40/mingw64/bin/"gcc -I"C:/Users/BIOCBU~1/BBS-3~1.12-/R/include" -DNDEBUG -I'C:/Users/biocbuild/bbs-3.12-bioc/R/library/S4Vectors/include' -I'C:/Users/biocbuild/bbs-3.12-bioc/R/library/IRanges/include' -I'C:/Users/biocbuild/bbs-3.12-bioc/R/library/XVector/include' -I'C:/Users/biocbuild/bbs-3.12-bioc/R/library/Biostrings/include' -I"C:/extsoft/include" -O2 -Wall -std=gnu99 -mfpmath=sse -msse2 -mstackrealign -c align.c -o align.o
"C:/rtools40/mingw64/bin/"gcc -I"C:/Users/BIOCBU~1/BBS-3~1.12-/R/include" -DNDEBUG -I'C:/Users/biocbuild/bbs-3.12-bioc/R/library/S4Vectors/include' -I'C:/Users/biocbuild/bbs-3.12-bioc/R/library/IRanges/include' -I'C:/Users/biocbuild/bbs-3.12-bioc/R/library/XVector/include' -I'C:/Users/biocbuild/bbs-3.12-bioc/R/library/Biostrings/include' -I"C:/extsoft/include" -O2 -Wall -std=gnu99 -mfpmath=sse -msse2 -mstackrealign -c align_interface.c -o align_interface.o
"C:/rtools40/mingw64/bin/"gcc -I"C:/Users/BIOCBU~1/BBS-3~1.12-/R/include" -DNDEBUG -I'C:/Users/biocbuild/bbs-3.12-bioc/R/library/S4Vectors/include' -I'C:/Users/biocbuild/bbs-3.12-bioc/R/library/IRanges/include' -I'C:/Users/biocbuild/bbs-3.12-bioc/R/library/XVector/include' -I'C:/Users/biocbuild/bbs-3.12-bioc/R/library/Biostrings/include' -I"C:/extsoft/include" -O2 -Wall -std=gnu99 -mfpmath=sse -msse2 -mstackrealign -c dl_list.c -o dl_list.o
"C:/rtools40/mingw64/bin/"gcc -I"C:/Users/BIOCBU~1/BBS-3~1.12-/R/include" -DNDEBUG -I'C:/Users/biocbuild/bbs-3.12-bioc/R/library/S4Vectors/include' -I'C:/Users/biocbuild/bbs-3.12-bioc/R/library/IRanges/include' -I'C:/Users/biocbuild/bbs-3.12-bioc/R/library/XVector/include' -I'C:/Users/biocbuild/bbs-3.12-bioc/R/library/Biostrings/include' -I"C:/extsoft/include" -O2 -Wall -std=gnu99 -mfpmath=sse -msse2 -mstackrealign -c interval.c -o interval.o
"C:/rtools40/mingw64/bin/"gcc -I"C:/Users/BIOCBU~1/BBS-3~1.12-/R/include" -DNDEBUG -I'C:/Users/biocbuild/bbs-3.12-bioc/R/library/S4Vectors/include' -I'C:/Users/biocbuild/bbs-3.12-bioc/R/library/IRanges/include' -I'C:/Users/biocbuild/bbs-3.12-bioc/R/library/XVector/include' -I'C:/Users/biocbuild/bbs-3.12-bioc/R/library/Biostrings/include' -I"C:/extsoft/include" -O2 -Wall -std=gnu99 -mfpmath=sse -msse2 -mstackrealign -c libtriplex.c -o libtriplex.o
"C:/rtools40/mingw64/bin/"gcc -I"C:/Users/BIOCBU~1/BBS-3~1.12-/R/include" -DNDEBUG -I'C:/Users/biocbuild/bbs-3.12-bioc/R/library/S4Vectors/include' -I'C:/Users/biocbuild/bbs-3.12-bioc/R/library/IRanges/include' -I'C:/Users/biocbuild/bbs-3.12-bioc/R/library/XVector/include' -I'C:/Users/biocbuild/bbs-3.12-bioc/R/library/Biostrings/include' -I"C:/extsoft/include" -O2 -Wall -std=gnu99 -mfpmath=sse -msse2 -mstackrealign -c progress.c -o progress.o
"C:/rtools40/mingw64/bin/"gcc -I"C:/Users/BIOCBU~1/BBS-3~1.12-/R/include" -DNDEBUG -I'C:/Users/biocbuild/bbs-3.12-bioc/R/library/S4Vectors/include' -I'C:/Users/biocbuild/bbs-3.12-bioc/R/library/IRanges/include' -I'C:/Users/biocbuild/bbs-3.12-bioc/R/library/XVector/include' -I'C:/Users/biocbuild/bbs-3.12-bioc/R/library/Biostrings/include' -I"C:/extsoft/include" -O2 -Wall -std=gnu99 -mfpmath=sse -msse2 -mstackrealign -c search.c -o search.o
"C:/rtools40/mingw64/bin/"gcc -I"C:/Users/BIOCBU~1/BBS-3~1.12-/R/include" -DNDEBUG -I'C:/Users/biocbuild/bbs-3.12-bioc/R/library/S4Vectors/include' -I'C:/Users/biocbuild/bbs-3.12-bioc/R/library/IRanges/include' -I'C:/Users/biocbuild/bbs-3.12-bioc/R/library/XVector/include' -I'C:/Users/biocbuild/bbs-3.12-bioc/R/library/Biostrings/include' -I"C:/extsoft/include" -O2 -Wall -std=gnu99 -mfpmath=sse -msse2 -mstackrealign -c search_interface.c -o search_interface.o
C:/rtools40/mingw64/bin/gcc -shared -s -static-libgcc -o triplex.dll tmp.def Biostrings_stubs.o IRanges_stubs.o R_init_triplex.o XVector_stubs.o align.o align_interface.o dl_list.o interval.o libtriplex.o progress.o search.o search_interface.o -LC:/extsoft/lib/x64 -LC:/extsoft/lib -LC:/Users/BIOCBU~1/BBS-3~1.12-/R/bin/x64 -lR
installing to C:/Users/biocbuild/bbs-3.12-bioc/meat/triplex.buildbin-libdir/triplex/libs/x64
** testing if installed package can be loaded
* MD5 sums
packaged installation of 'triplex' as triplex_1.30.0.zip
* DONE (triplex)