| Back to Multiple platform build/check report for BioC 3.12 |
|
This page was generated on 2021-05-06 12:37:16 -0400 (Thu, 06 May 2021).
|
To the developers/maintainers of the trena package: Please make sure to use the following settings in order to reproduce any error or warning you see on this page. |
| Package 1896/1974 | Hostname | OS / Arch | INSTALL | BUILD | CHECK | BUILD BIN | ||||||||
| trena 1.12.1 (landing page) Paul Shannon
| malbec1 | Linux (Ubuntu 18.04.5 LTS) / x86_64 | OK | OK | WARNINGS | |||||||||
| tokay1 | Windows Server 2012 R2 Standard / x64 | OK | OK | WARNINGS | OK | |||||||||
| merida1 | macOS 10.14.6 Mojave / x86_64 | OK | OK | WARNINGS | OK | |||||||||
| Package: trena |
| Version: 1.12.1 |
| Command: rm -rf trena.buildbin-libdir && mkdir trena.buildbin-libdir && /Users/biocbuild/BBS/utils/build-universal.sh trena_1.12.1.tar.gz /Library/Frameworks/R.framework/Versions/Current/Resources/bin/R trena.buildbin-libdir |
| StartedAt: 2021-05-06 10:16:35 -0400 (Thu, 06 May 2021) |
| EndedAt: 2021-05-06 10:17:37 -0400 (Thu, 06 May 2021) |
| EllapsedTime: 62.4 seconds |
| RetCode: 0 |
| Status: OK |
| PackageFile: trena_1.12.1.tgz |
| PackageFileSize: 2.627 MiB |
##############################################################################
##############################################################################
###
### Running command:
###
### rm -rf trena.buildbin-libdir && mkdir trena.buildbin-libdir && /Users/biocbuild/BBS/utils/build-universal.sh trena_1.12.1.tar.gz /Library/Frameworks/R.framework/Versions/Current/Resources/bin/R trena.buildbin-libdir
###
##############################################################################
##############################################################################
>>>>>>>
>>>>>>> INSTALLATION WITH 'R CMD INSTALL --preclean --no-multiarch --library=trena.buildbin-libdir trena_1.12.1.tar.gz'
>>>>>>>
* installing *source* package ‘trena’ ...
** using staged installation
** R
** inst
** byte-compile and prepare package for lazy loading
See system.file("LICENSE", package="MotifDb") for use restrictions.
** help
*** installing help indices
** building package indices
** installing vignettes
** testing if installed package can be loaded from temporary location
See system.file("LICENSE", package="MotifDb") for use restrictions.
** testing if installed package can be loaded from final location
See system.file("LICENSE", package="MotifDb") for use restrictions.
** testing if installed package keeps a record of temporary installation path
* DONE (trena)