| Back to Multiple platform build/check report for BioC 3.12 |
|
This page was generated on 2021-05-06 12:37:14 -0400 (Thu, 06 May 2021).
|
To the developers/maintainers of the transcriptR package: Please make sure to use the following settings in order to reproduce any error or warning you see on this page. |
| Package 1887/1974 | Hostname | OS / Arch | INSTALL | BUILD | CHECK | BUILD BIN | ||||||||
| transcriptR 1.18.0 (landing page) Armen R. Karapetyan
| malbec1 | Linux (Ubuntu 18.04.5 LTS) / x86_64 | OK | OK | OK | |||||||||
| tokay1 | Windows Server 2012 R2 Standard / x64 | OK | OK | WARNINGS | OK | |||||||||
| merida1 | macOS 10.14.6 Mojave / x86_64 | OK | OK | OK | OK | |||||||||
| Package: transcriptR |
| Version: 1.18.0 |
| Command: /Library/Frameworks/R.framework/Versions/Current/Resources/bin/R CMD check --install=check:transcriptR.install-out.txt --library=/Library/Frameworks/R.framework/Versions/Current/Resources/library --no-vignettes --timings transcriptR_1.18.0.tar.gz |
| StartedAt: 2021-05-06 07:00:01 -0400 (Thu, 06 May 2021) |
| EndedAt: 2021-05-06 07:08:30 -0400 (Thu, 06 May 2021) |
| EllapsedTime: 508.2 seconds |
| RetCode: 0 |
| Status: OK |
| CheckDir: transcriptR.Rcheck |
| Warnings: 0 |
##############################################################################
##############################################################################
###
### Running command:
###
### /Library/Frameworks/R.framework/Versions/Current/Resources/bin/R CMD check --install=check:transcriptR.install-out.txt --library=/Library/Frameworks/R.framework/Versions/Current/Resources/library --no-vignettes --timings transcriptR_1.18.0.tar.gz
###
##############################################################################
##############################################################################
* using log directory ‘/Users/biocbuild/bbs-3.12-bioc/meat/transcriptR.Rcheck’
* using R version 4.0.5 (2021-03-31)
* using platform: x86_64-apple-darwin17.0 (64-bit)
* using session charset: UTF-8
* using option ‘--no-vignettes’
* checking for file ‘transcriptR/DESCRIPTION’ ... OK
* checking extension type ... Package
* this is package ‘transcriptR’ version ‘1.18.0’
* checking package namespace information ... OK
* checking package dependencies ... OK
* checking if this is a source package ... OK
* checking if there is a namespace ... OK
* checking for hidden files and directories ... OK
* checking for portable file names ... OK
* checking for sufficient/correct file permissions ... OK
* checking whether package ‘transcriptR’ can be installed ... OK
* checking installed package size ... OK
* checking package directory ... OK
* checking ‘build’ directory ... OK
* checking DESCRIPTION meta-information ... OK
* checking top-level files ... OK
* checking for left-over files ... OK
* checking index information ... OK
* checking package subdirectories ... OK
* checking R files for non-ASCII characters ... OK
* checking R files for syntax errors ... OK
* checking whether the package can be loaded ... OK
* checking whether the package can be loaded with stated dependencies ... OK
* checking whether the package can be unloaded cleanly ... OK
* checking whether the namespace can be loaded with stated dependencies ... OK
* checking whether the namespace can be unloaded cleanly ... OK
* checking dependencies in R code ... OK
* checking S3 generic/method consistency ... OK
* checking replacement functions ... OK
* checking foreign function calls ... OK
* checking R code for possible problems ... OK
* checking Rd files ... OK
* checking Rd metadata ... OK
* checking Rd cross-references ... OK
* checking for missing documentation entries ... OK
* checking for code/documentation mismatches ... OK
* checking Rd \usage sections ... OK
* checking Rd contents ... OK
* checking for unstated dependencies in examples ... OK
* checking contents of ‘data’ directory ... OK
* checking data for non-ASCII characters ... OK
* checking data for ASCII and uncompressed saves ... OK
* checking files in ‘vignettes’ ... OK
* checking examples ... OK
Examples with CPU (user + system) or elapsed time > 5s
user system elapsed
breakTranscriptsByPeaks-methods 11.130 0.289 11.435
predictStrand-methods 6.401 0.189 6.596
peaksToBed-methods 5.931 0.142 6.083
* checking for unstated dependencies in ‘tests’ ... OK
* checking tests ...
Running ‘testthat.R’
OK
* checking for unstated dependencies in vignettes ... OK
* checking package vignettes in ‘inst/doc’ ... OK
* checking running R code from vignettes ... SKIPPED
* checking re-building of vignette outputs ... SKIPPED
* checking PDF version of manual ... OK
* DONE
Status: OK
transcriptR.Rcheck/00install.out
############################################################################## ############################################################################## ### ### Running command: ### ### /Library/Frameworks/R.framework/Versions/Current/Resources/bin/R CMD INSTALL transcriptR ### ############################################################################## ############################################################################## * installing to library ‘/Library/Frameworks/R.framework/Versions/4.0/Resources/library’ * installing *source* package ‘transcriptR’ ... ** using staged installation ** R ** data ** inst ** byte-compile and prepare package for lazy loading ** help *** installing help indices ** building package indices ** installing vignettes ** testing if installed package can be loaded from temporary location ** testing if installed package can be loaded from final location ** testing if installed package keeps a record of temporary installation path * DONE (transcriptR)
transcriptR.Rcheck/tests/testthat.Rout
R version 4.0.5 (2021-03-31) -- "Shake and Throw"
Copyright (C) 2021 The R Foundation for Statistical Computing
Platform: x86_64-apple-darwin17.0 (64-bit)
R is free software and comes with ABSOLUTELY NO WARRANTY.
You are welcome to redistribute it under certain conditions.
Type 'license()' or 'licence()' for distribution details.
R is a collaborative project with many contributors.
Type 'contributors()' for more information and
'citation()' on how to cite R or R packages in publications.
Type 'demo()' for some demos, 'help()' for on-line help, or
'help.start()' for an HTML browser interface to help.
Type 'q()' to quit R.
> library(testthat)
> library(transcriptR)
>
> test_check("transcriptR")
[ FAIL 0 | WARN 0 | SKIP 0 | PASS 87 ]
>
> proc.time()
user system elapsed
72.797 1.924 76.069
transcriptR.Rcheck/transcriptR-Ex.timings
| name | user | system | elapsed | |
| addFeature-methods | 0.110 | 0.003 | 0.112 | |
| annotateTranscripts-methods | 2.983 | 0.064 | 3.051 | |
| breakTranscriptsByPeaks-methods | 11.130 | 0.289 | 11.435 | |
| constructCDS | 0.005 | 0.002 | 0.006 | |
| constructTDS | 0.273 | 0.007 | 0.280 | |
| detectTranscripts-methods | 1.528 | 0.044 | 1.574 | |
| estimateBackground-methods | 0.457 | 0.014 | 0.471 | |
| estimateGapDistance-methods | 1.035 | 0.042 | 1.077 | |
| exportCoverage-methods | 0.276 | 0.007 | 0.283 | |
| getConfusionMatrix-methods | 0.003 | 0.001 | 0.004 | |
| getGenomicAnnot-methods | 0.004 | 0.001 | 0.006 | |
| getPeaks-methods | 0.043 | 0.002 | 0.045 | |
| getPredictorSignificance-methods | 0.003 | 0.001 | 0.004 | |
| getProbTreshold-methods | 0.002 | 0.001 | 0.004 | |
| getQuadProb-methods | 0.293 | 0.007 | 0.300 | |
| getTestedGapDistances-methods | 0.315 | 0.018 | 0.334 | |
| getTranscripts-methods | 0.290 | 0.004 | 0.294 | |
| peaksToBed-methods | 5.931 | 0.142 | 6.083 | |
| plotErrorRate-methods | 1.210 | 0.030 | 1.242 | |
| plotFeatures-methods | 2.438 | 0.035 | 2.478 | |
| plotGenomicAnnot-methods | 0.461 | 0.004 | 0.466 | |
| plotROC-methods | 2.143 | 0.046 | 2.191 | |
| predictStrand-methods | 6.401 | 0.189 | 6.596 | |
| predictTssOverlap-methods | 2.068 | 0.045 | 2.115 | |
| show | 0.254 | 0.003 | 0.257 | |
| transcriptsToBed-methods | 1.700 | 0.034 | 1.735 | |