| Back to Multiple platform build/check report for BioC 3.12 |
|
This page was generated on 2021-05-06 12:29:29 -0400 (Thu, 06 May 2021).
|
To the developers/maintainers of the trackViewer package: Please make sure to use the following settings in order to reproduce any error or warning you see on this page. |
| Package 1884/1974 | Hostname | OS / Arch | INSTALL | BUILD | CHECK | BUILD BIN | ||||||||
| trackViewer 1.26.2 (landing page) Jianhong Ou
| malbec1 | Linux (Ubuntu 18.04.5 LTS) / x86_64 | OK | OK | OK | |||||||||
| tokay1 | Windows Server 2012 R2 Standard / x64 | OK | OK | OK | OK | |||||||||
| merida1 | macOS 10.14.6 Mojave / x86_64 | OK | OK | OK | OK | |||||||||
| Package: trackViewer |
| Version: 1.26.2 |
| Command: /home/biocbuild/bbs-3.12-bioc/R/bin/R CMD check --install=check:trackViewer.install-out.txt --library=/home/biocbuild/bbs-3.12-bioc/R/library --no-vignettes --timings trackViewer_1.26.2.tar.gz |
| StartedAt: 2021-05-06 06:45:36 -0400 (Thu, 06 May 2021) |
| EndedAt: 2021-05-06 06:55:13 -0400 (Thu, 06 May 2021) |
| EllapsedTime: 577.0 seconds |
| RetCode: 0 |
| Status: OK |
| CheckDir: trackViewer.Rcheck |
| Warnings: 0 |
##############################################################################
##############################################################################
###
### Running command:
###
### /home/biocbuild/bbs-3.12-bioc/R/bin/R CMD check --install=check:trackViewer.install-out.txt --library=/home/biocbuild/bbs-3.12-bioc/R/library --no-vignettes --timings trackViewer_1.26.2.tar.gz
###
##############################################################################
##############################################################################
* using log directory ‘/home/biocbuild/bbs-3.12-bioc/meat/trackViewer.Rcheck’
* using R version 4.0.5 (2021-03-31)
* using platform: x86_64-pc-linux-gnu (64-bit)
* using session charset: UTF-8
* using option ‘--no-vignettes’
* checking for file ‘trackViewer/DESCRIPTION’ ... OK
* checking extension type ... Package
* this is package ‘trackViewer’ version ‘1.26.2’
* package encoding: UTF-8
* checking package namespace information ... OK
* checking package dependencies ... OK
* checking if this is a source package ... OK
* checking if there is a namespace ... OK
* checking for hidden files and directories ... OK
* checking for portable file names ... OK
* checking for sufficient/correct file permissions ... OK
* checking whether package ‘trackViewer’ can be installed ... OK
* checking installed package size ... OK
* checking package directory ... OK
* checking ‘build’ directory ... OK
* checking DESCRIPTION meta-information ... OK
* checking top-level files ... OK
* checking for left-over files ... OK
* checking index information ... OK
* checking package subdirectories ... OK
* checking R files for non-ASCII characters ... OK
* checking R files for syntax errors ... OK
* checking whether the package can be loaded ... OK
* checking whether the package can be loaded with stated dependencies ... OK
* checking whether the package can be unloaded cleanly ... OK
* checking whether the namespace can be loaded with stated dependencies ... OK
* checking whether the namespace can be unloaded cleanly ... OK
* checking dependencies in R code ... OK
* checking S3 generic/method consistency ... OK
* checking replacement functions ... OK
* checking foreign function calls ... OK
* checking R code for possible problems ... NOTE
plotGInteractions: no visible global function definition for
'plot.default'
Undefined global functions or variables:
plot.default
Consider adding
importFrom("graphics", "plot.default")
to your NAMESPACE file.
* checking Rd files ... OK
* checking Rd metadata ... OK
* checking Rd cross-references ... OK
* checking for missing documentation entries ... OK
* checking for code/documentation mismatches ... OK
* checking Rd \usage sections ... OK
* checking Rd contents ... OK
* checking for unstated dependencies in examples ... OK
* checking files in ‘vignettes’ ... OK
* checking examples ... OK
Examples with CPU (user + system) or elapsed time > 5s
user system elapsed
trackViewer-package 28.340 0.004 28.428
browseTracks 22.728 0.012 22.816
viewTracks 22.416 0.004 22.473
parseWIG 19.588 0.008 19.637
viewGene 8.004 0.016 8.033
geneModelFromTxdb 7.372 0.144 7.537
* checking for unstated dependencies in ‘tests’ ... OK
* checking tests ...
Running ‘runTests.R’
OK
* checking for unstated dependencies in vignettes ... OK
* checking package vignettes in ‘inst/doc’ ... OK
* checking running R code from vignettes ... SKIPPED
* checking re-building of vignette outputs ... SKIPPED
* checking PDF version of manual ... OK
* DONE
Status: 1 NOTE
See
‘/home/biocbuild/bbs-3.12-bioc/meat/trackViewer.Rcheck/00check.log’
for details.
trackViewer.Rcheck/00install.out
############################################################################## ############################################################################## ### ### Running command: ### ### /home/biocbuild/bbs-3.12-bioc/R/bin/R CMD INSTALL trackViewer ### ############################################################################## ############################################################################## * installing to library ‘/home/biocbuild/bbs-3.12-bioc/R/library’ * installing *source* package ‘trackViewer’ ... ** using staged installation ** R ** inst ** byte-compile and prepare package for lazy loading ** help *** installing help indices ** building package indices ** installing vignettes ** testing if installed package can be loaded from temporary location ** testing if installed package can be loaded from final location ** testing if installed package keeps a record of temporary installation path * DONE (trackViewer)
trackViewer.Rcheck/tests/runTests.Rout
R version 4.0.5 (2021-03-31) -- "Shake and Throw"
Copyright (C) 2021 The R Foundation for Statistical Computing
Platform: x86_64-pc-linux-gnu (64-bit)
R is free software and comes with ABSOLUTELY NO WARRANTY.
You are welcome to redistribute it under certain conditions.
Type 'license()' or 'licence()' for distribution details.
R is a collaborative project with many contributors.
Type 'contributors()' for more information and
'citation()' on how to cite R or R packages in publications.
Type 'demo()' for some demos, 'help()' for on-line help, or
'help.start()' for an HTML browser interface to help.
Type 'q()' to quit R.
> require("trackViewer") || stop("unable to load Package:trackViewer")
Loading required package: trackViewer
Loading required package: GenomicRanges
Loading required package: stats4
Loading required package: BiocGenerics
Loading required package: parallel
Attaching package: 'BiocGenerics'
The following objects are masked from 'package:parallel':
clusterApply, clusterApplyLB, clusterCall, clusterEvalQ,
clusterExport, clusterMap, parApply, parCapply, parLapply,
parLapplyLB, parRapply, parSapply, parSapplyLB
The following objects are masked from 'package:stats':
IQR, mad, sd, var, xtabs
The following objects are masked from 'package:base':
Filter, Find, Map, Position, Reduce, anyDuplicated, append,
as.data.frame, basename, cbind, colnames, dirname, do.call,
duplicated, eval, evalq, get, grep, grepl, intersect, is.unsorted,
lapply, mapply, match, mget, order, paste, pmax, pmax.int, pmin,
pmin.int, rank, rbind, rownames, sapply, setdiff, sort, table,
tapply, union, unique, unsplit, which.max, which.min
Loading required package: S4Vectors
Attaching package: 'S4Vectors'
The following object is masked from 'package:base':
expand.grid
Loading required package: IRanges
Loading required package: GenomeInfoDb
Loading required package: grid
[1] TRUE
> require("RUnit") || stop("unable to load Package:RUnit")
Loading required package: RUnit
[1] TRUE
> BiocGenerics:::testPackage("trackViewer")
RUNIT TEST PROTOCOL -- Thu May 6 06:55:09 2021
***********************************************
Number of test functions: 1
Number of errors: 0
Number of failures: 0
1 Test Suite :
trackViewer RUnit Tests - 1 test function, 0 errors, 0 failures
Number of test functions: 1
Number of errors: 0
Number of failures: 0
>
> proc.time()
user system elapsed
20.344 0.436 22.396
trackViewer.Rcheck/trackViewer-Ex.timings
| name | user | system | elapsed | |
| GRoperator | 3.888 | 0.152 | 4.042 | |
| addArrowMark | 0.008 | 0.000 | 0.007 | |
| addGuideLine | 0.004 | 0.000 | 0.004 | |
| browseTracks | 22.728 | 0.012 | 22.816 | |
| coverageGR | 0.396 | 0.000 | 0.395 | |
| dandelion.plot | 3.480 | 0.016 | 3.501 | |
| geneModelFromTxdb | 7.372 | 0.144 | 7.537 | |
| geneTrack | 3.092 | 0.008 | 3.105 | |
| getCurTrackViewport | 0.004 | 0.000 | 0.002 | |
| getGeneIDsFromTxDb | 0.952 | 0.008 | 0.960 | |
| getLocation | 2.288 | 0.016 | 2.307 | |
| gi2track | 0.092 | 0.000 | 0.101 | |
| gieStain | 0.012 | 0.000 | 0.013 | |
| ideogramPlot | 0.000 | 0.000 | 0.001 | |
| importBam | 0.404 | 0.004 | 0.411 | |
| importData | 2.844 | 0.004 | 2.854 | |
| importScore | 0.992 | 0.000 | 1.056 | |
| loadIdeogram | 0 | 0 | 0 | |
| lolliplot | 1.312 | 0.004 | 1.323 | |
| optimizeStyle | 0.824 | 0.000 | 0.831 | |
| parse2GRanges | 0.020 | 0.000 | 0.021 | |
| parseWIG | 19.588 | 0.008 | 19.637 | |
| plotGInteractions | 2.236 | 0.004 | 2.264 | |
| plotGRanges | 2.188 | 0.000 | 2.196 | |
| plotIdeo | 0.004 | 0.000 | 0.000 | |
| plotOneIdeo | 0 | 0 | 0 | |
| trackStyle-class | 0.080 | 0.000 | 0.081 | |
| trackViewer-package | 28.340 | 0.004 | 28.428 | |
| trackViewerStyle-class | 0 | 0 | 0 | |
| viewGene | 8.004 | 0.016 | 8.033 | |
| viewTracks | 22.416 | 0.004 | 22.473 | |