| Back to Multiple platform build/check report for BioC 3.12 |
|
This page was generated on 2021-05-06 12:34:00 -0400 (Thu, 06 May 2021).
|
To the developers/maintainers of the topGO package: Please make sure to use the following settings in order to reproduce any error or warning you see on this page. |
| Package 1879/1974 | Hostname | OS / Arch | INSTALL | BUILD | CHECK | BUILD BIN | ||||||||
| topGO 2.42.0 (landing page) Adrian Alexa
| malbec1 | Linux (Ubuntu 18.04.5 LTS) / x86_64 | OK | OK | OK | |||||||||
| tokay1 | Windows Server 2012 R2 Standard / x64 | OK | OK | OK | OK | |||||||||
| merida1 | macOS 10.14.6 Mojave / x86_64 | OK | OK | OK | OK | |||||||||
| Package: topGO |
| Version: 2.42.0 |
| Command: rm -rf topGO.buildbin-libdir && mkdir topGO.buildbin-libdir && C:\Users\biocbuild\bbs-3.12-bioc\R\bin\R.exe CMD INSTALL --merge-multiarch --build --library=topGO.buildbin-libdir topGO_2.42.0.tar.gz |
| StartedAt: 2021-05-06 10:17:18 -0400 (Thu, 06 May 2021) |
| EndedAt: 2021-05-06 10:18:01 -0400 (Thu, 06 May 2021) |
| EllapsedTime: 43.0 seconds |
| RetCode: 0 |
| Status: OK |
| PackageFile: topGO_2.42.0.zip |
| PackageFileSize: 1.966 MiB |
##############################################################################
##############################################################################
###
### Running command:
###
### rm -rf topGO.buildbin-libdir && mkdir topGO.buildbin-libdir && C:\Users\biocbuild\bbs-3.12-bioc\R\bin\R.exe CMD INSTALL --merge-multiarch --build --library=topGO.buildbin-libdir topGO_2.42.0.tar.gz
###
##############################################################################
##############################################################################
install for i386
* installing *source* package 'topGO' ...
** using staged installation
** R
** data
** inst
** byte-compile and prepare package for lazy loading
** help
*** installing help indices
converting help for package 'topGO'
finding HTML links ... done
GOTests html
GOdata html
annFUN html
classicCount-class html
classicExpr-class html
classicScore-class html
dagFunctions html
diagnosticMethods html
elimCount-class html
elimExpr-class html
elimScore-class html
geneList html
getPvalues html
getSigGroups html
groupGOTerms html
groupStats-class html
inducedGraph html
parentChild-class html
printGraph-methods html
topGO-package html
topGOdata-class html
topGOresult-class html
weightCount-class html
** building package indices
** installing vignettes
** testing if installed package can be loaded from temporary location
groupGOTerms: GOBPTerm, GOMFTerm, GOCCTerm environments built.
** testing if installed package can be loaded from final location
groupGOTerms: GOBPTerm, GOMFTerm, GOCCTerm environments built.
** testing if installed package keeps a record of temporary installation path
install for x64
* installing *source* package 'topGO' ...
** testing if installed package can be loaded
groupGOTerms: GOBPTerm, GOMFTerm, GOCCTerm environments built.
* MD5 sums
packaged installation of 'topGO' as topGO_2.42.0.zip
* DONE (topGO)