| Back to Multiple platform build/check report for BioC 3.12 |
|
This page was generated on 2021-05-06 12:33:58 -0400 (Thu, 06 May 2021).
|
To the developers/maintainers of the timeOmics package: Please make sure to use the following settings in order to reproduce any error or warning you see on this page. |
| Package 1862/1974 | Hostname | OS / Arch | INSTALL | BUILD | CHECK | BUILD BIN | ||||||||
| timeOmics 1.2.0 (landing page) Antoine Bodein
| malbec1 | Linux (Ubuntu 18.04.5 LTS) / x86_64 | OK | OK | OK | |||||||||
| tokay1 | Windows Server 2012 R2 Standard / x64 | OK | OK | OK | OK | |||||||||
| merida1 | macOS 10.14.6 Mojave / x86_64 | OK | OK | OK | OK | |||||||||
| Package: timeOmics |
| Version: 1.2.0 |
| Command: rm -rf timeOmics.buildbin-libdir && mkdir timeOmics.buildbin-libdir && C:\Users\biocbuild\bbs-3.12-bioc\R\bin\R.exe CMD INSTALL --merge-multiarch --build --library=timeOmics.buildbin-libdir timeOmics_1.2.0.tar.gz |
| StartedAt: 2021-05-06 10:16:17 -0400 (Thu, 06 May 2021) |
| EndedAt: 2021-05-06 10:16:56 -0400 (Thu, 06 May 2021) |
| EllapsedTime: 39.0 seconds |
| RetCode: 0 |
| Status: OK |
| PackageFile: timeOmics_1.2.0.zip |
| PackageFileSize: 2.117 MiB |
##############################################################################
##############################################################################
###
### Running command:
###
### rm -rf timeOmics.buildbin-libdir && mkdir timeOmics.buildbin-libdir && C:\Users\biocbuild\bbs-3.12-bioc\R\bin\R.exe CMD INSTALL --merge-multiarch --build --library=timeOmics.buildbin-libdir timeOmics_1.2.0.tar.gz
###
##############################################################################
##############################################################################
install for i386
* installing *source* package 'timeOmics' ...
** using staged installation
** R
** data
*** moving datasets to lazyload DB
** inst
** byte-compile and prepare package for lazy loading
Note: wrong number of arguments to '*'
** help
*** installing help indices
converting help for package 'timeOmics'
finding HTML links ... done
dmatrix.spearman.dissimilarity html
getCluster html
getNcomp html
getSilhouette html
get_demo_cluster html
get_demo_silhouette html
lmms.filter.lines html
plotLong html
proportionality html
timeOmics.simdata html
tuneCluster.block.spls html
tuneCluster.spca html
tuneCluster.spls html
unscale html
*** copying figures
** building package indices
** installing vignettes
** testing if installed package can be loaded from temporary location
** testing if installed package can be loaded from final location
** testing if installed package keeps a record of temporary installation path
install for x64
* installing *source* package 'timeOmics' ...
** testing if installed package can be loaded
* MD5 sums
packaged installation of 'timeOmics' as timeOmics_1.2.0.zip
* DONE (timeOmics)