| Back to Multiple platform build/check report for BioC 3.12 |
|
This page was generated on 2021-05-06 12:33:53 -0400 (Thu, 06 May 2021).
|
To the developers/maintainers of the switchde package: Please make sure to use the following settings in order to reproduce any error or warning you see on this page. |
| Package 1826/1974 | Hostname | OS / Arch | INSTALL | BUILD | CHECK | BUILD BIN | ||||||||
| switchde 1.16.0 (landing page) Kieran Campbell
| malbec1 | Linux (Ubuntu 18.04.5 LTS) / x86_64 | OK | OK | OK | |||||||||
| tokay1 | Windows Server 2012 R2 Standard / x64 | OK | OK | OK | OK | |||||||||
| merida1 | macOS 10.14.6 Mojave / x86_64 | OK | OK | OK | OK | |||||||||
| Package: switchde |
| Version: 1.16.0 |
| Command: rm -rf switchde.buildbin-libdir && mkdir switchde.buildbin-libdir && C:\Users\biocbuild\bbs-3.12-bioc\R\bin\R.exe CMD INSTALL --merge-multiarch --build --library=switchde.buildbin-libdir switchde_1.16.0.tar.gz |
| StartedAt: 2021-05-06 10:14:09 -0400 (Thu, 06 May 2021) |
| EndedAt: 2021-05-06 10:14:57 -0400 (Thu, 06 May 2021) |
| EllapsedTime: 47.8 seconds |
| RetCode: 0 |
| Status: OK |
| PackageFile: switchde_1.16.0.zip |
| PackageFileSize: 540.3 KiB |
##############################################################################
##############################################################################
###
### Running command:
###
### rm -rf switchde.buildbin-libdir && mkdir switchde.buildbin-libdir && C:\Users\biocbuild\bbs-3.12-bioc\R\bin\R.exe CMD INSTALL --merge-multiarch --build --library=switchde.buildbin-libdir switchde_1.16.0.tar.gz
###
##############################################################################
##############################################################################
install for i386
* installing *source* package 'switchde' ...
** using staged installation
** R
** data
*** moving datasets to lazyload DB
** inst
** byte-compile and prepare package for lazy loading
** help
*** installing help indices
converting help for package 'switchde'
finding HTML links ... done
ex_pseudotime html
example_sigmoid html
extract_pars html
fit_nzi_model html
fit_zi_model html
sanitise_inputs html
sigmoid html
switchde html
switchplot html
synth_gex html
** building package indices
** installing vignettes
** testing if installed package can be loaded from temporary location
** testing if installed package can be loaded from final location
** testing if installed package keeps a record of temporary installation path
install for x64
* installing *source* package 'switchde' ...
** testing if installed package can be loaded
* MD5 sums
packaged installation of 'switchde' as switchde_1.16.0.zip
* DONE (switchde)