| Back to Multiple platform build/check report for BioC 3.12 |
|
This page was generated on 2021-05-06 12:37:02 -0400 (Thu, 06 May 2021).
|
To the developers/maintainers of the supraHex package: Please make sure to use the following settings in order to reproduce any error or warning you see on this page. |
| Package 1815/1974 | Hostname | OS / Arch | INSTALL | BUILD | CHECK | BUILD BIN | ||||||||
| supraHex 1.28.2 (landing page) Hai Fang
| malbec1 | Linux (Ubuntu 18.04.5 LTS) / x86_64 | OK | OK | OK | |||||||||
| tokay1 | Windows Server 2012 R2 Standard / x64 | OK | OK | OK | OK | |||||||||
| merida1 | macOS 10.14.6 Mojave / x86_64 | OK | OK | OK | OK | |||||||||
| Package: supraHex |
| Version: 1.28.2 |
| Command: /Library/Frameworks/R.framework/Versions/Current/Resources/bin/R CMD check --install=check:supraHex.install-out.txt --library=/Library/Frameworks/R.framework/Versions/Current/Resources/library --no-vignettes --timings supraHex_1.28.2.tar.gz |
| StartedAt: 2021-05-06 06:42:04 -0400 (Thu, 06 May 2021) |
| EndedAt: 2021-05-06 06:43:40 -0400 (Thu, 06 May 2021) |
| EllapsedTime: 96.5 seconds |
| RetCode: 0 |
| Status: OK |
| CheckDir: supraHex.Rcheck |
| Warnings: 0 |
##############################################################################
##############################################################################
###
### Running command:
###
### /Library/Frameworks/R.framework/Versions/Current/Resources/bin/R CMD check --install=check:supraHex.install-out.txt --library=/Library/Frameworks/R.framework/Versions/Current/Resources/library --no-vignettes --timings supraHex_1.28.2.tar.gz
###
##############################################################################
##############################################################################
* using log directory ‘/Users/biocbuild/bbs-3.12-bioc/meat/supraHex.Rcheck’
* using R version 4.0.5 (2021-03-31)
* using platform: x86_64-apple-darwin17.0 (64-bit)
* using session charset: UTF-8
* using option ‘--no-vignettes’
* checking for file ‘supraHex/DESCRIPTION’ ... OK
* checking extension type ... Package
* this is package ‘supraHex’ version ‘1.28.2’
* checking package namespace information ... OK
* checking package dependencies ... OK
* checking if this is a source package ... OK
* checking if there is a namespace ... OK
* checking for hidden files and directories ... OK
* checking for portable file names ... OK
* checking for sufficient/correct file permissions ... OK
* checking whether package ‘supraHex’ can be installed ... OK
* checking installed package size ... OK
* checking package directory ... OK
* checking ‘build’ directory ... OK
* checking DESCRIPTION meta-information ... OK
* checking top-level files ... OK
* checking for left-over files ... OK
* checking index information ... OK
* checking package subdirectories ... OK
* checking R files for non-ASCII characters ... OK
* checking R files for syntax errors ... OK
* checking whether the package can be loaded ... OK
* checking whether the package can be loaded with stated dependencies ... OK
* checking whether the package can be unloaded cleanly ... OK
* checking whether the namespace can be loaded with stated dependencies ... OK
* checking whether the namespace can be unloaded cleanly ... OK
* checking dependencies in R code ... OK
* checking S3 generic/method consistency ... OK
* checking replacement functions ... OK
* checking foreign function calls ... OK
* checking R code for possible problems ... OK
* checking Rd files ... OK
* checking Rd metadata ... OK
* checking Rd cross-references ... OK
* checking for missing documentation entries ... OK
* checking for code/documentation mismatches ... OK
* checking Rd \usage sections ... OK
* checking Rd contents ... OK
* checking for unstated dependencies in examples ... OK
* checking contents of ‘data’ directory ... OK
* checking data for non-ASCII characters ... OK
* checking data for ASCII and uncompressed saves ... OK
* checking sizes of PDF files under ‘inst/doc’ ... OK
* checking files in ‘vignettes’ ... OK
* checking examples ... OK
Examples with CPU (user + system) or elapsed time > 5s
user system elapsed
visCompReorder 5.149 0.271 5.452
* checking for unstated dependencies in vignettes ... OK
* checking package vignettes in ‘inst/doc’ ... OK
* checking running R code from vignettes ... SKIPPED
* checking re-building of vignette outputs ... SKIPPED
* checking PDF version of manual ... OK
* DONE
Status: OK
supraHex.Rcheck/00install.out
############################################################################## ############################################################################## ### ### Running command: ### ### /Library/Frameworks/R.framework/Versions/Current/Resources/bin/R CMD INSTALL supraHex ### ############################################################################## ############################################################################## * installing to library ‘/Library/Frameworks/R.framework/Versions/4.0/Resources/library’ * installing *source* package ‘supraHex’ ... ** using staged installation ** R ** data ** inst ** byte-compile and prepare package for lazy loading ** help *** installing help indices ** building package indices ** installing vignettes ** testing if installed package can be loaded from temporary location ** testing if installed package can be loaded from final location ** testing if installed package keeps a record of temporary installation path * DONE (supraHex)
supraHex.Rcheck/supraHex-Ex.timings
| name | user | system | elapsed | |
| sBMH | 0.090 | 0.012 | 0.102 | |
| sCompReorder | 3.894 | 0.183 | 4.081 | |
| sDistance | 0.567 | 0.008 | 0.575 | |
| sDmat | 0.605 | 0.005 | 0.612 | |
| sDmatCluster | 0.711 | 0.013 | 0.724 | |
| sDmatMinima | 0.610 | 0.006 | 0.617 | |
| sHexDist | 0.008 | 0.001 | 0.008 | |
| sHexGrid | 0.002 | 0.000 | 0.002 | |
| sHexGridVariant | 0.003 | 0.002 | 0.005 | |
| sHexPolygon | 0.175 | 0.001 | 0.175 | |
| sInitial | 0.008 | 0.000 | 0.009 | |
| sMapOverlay | 0.664 | 0.015 | 0.681 | |
| sNeighAny | 0.014 | 0.001 | 0.015 | |
| sNeighDirect | 0.008 | 0.001 | 0.009 | |
| sPipeline | 0.001 | 0.001 | 0.001 | |
| sTopology | 0.051 | 0.010 | 0.061 | |
| sTrainBatch | 0.067 | 0.002 | 0.069 | |
| sTrainSeq | 0.565 | 0.003 | 0.567 | |
| sTrainology | 0.008 | 0.001 | 0.008 | |
| sWriteData | 0.738 | 0.009 | 0.748 | |
| visColoralpha | 0.004 | 0.000 | 0.004 | |
| visColorbar | 0.035 | 0.001 | 0.035 | |
| visColormap | 0.005 | 0.000 | 0.004 | |
| visCompReorder | 5.149 | 0.271 | 5.452 | |
| visDmatCluster | 0.000 | 0.001 | 0.001 | |
| visDmatHeatmap | 0.001 | 0.000 | 0.001 | |
| visHeatmap | 0.138 | 0.003 | 0.141 | |
| visHeatmapAdv | 0.560 | 0.010 | 0.574 | |
| visHexAnimate | 0.002 | 0.001 | 0.002 | |
| visHexBarplot | 1.242 | 0.042 | 1.286 | |
| visHexComp | 0.509 | 0.007 | 0.518 | |
| visHexGrid | 0.517 | 0.007 | 0.525 | |
| visHexMapping | 2.283 | 0.080 | 2.367 | |
| visHexMulComp | 1.652 | 0.047 | 1.706 | |
| visHexPattern | 2.229 | 0.149 | 2.382 | |
| visKernels | 0.011 | 0.007 | 0.019 | |
| visTreeBSclust | 0.000 | 0.000 | 0.001 | |
| visTreeBootstrap | 0.001 | 0.000 | 0.002 | |
| visVp | 0.018 | 0.009 | 0.027 | |