| Back to Multiple platform build/check report for BioC 3.12 |
|
This page was generated on 2021-05-06 12:37:00 -0400 (Thu, 06 May 2021).
|
To the developers/maintainers of the subSeq package: Please make sure to use the following settings in order to reproduce any error or warning you see on this page. |
| Package 1812/1974 | Hostname | OS / Arch | INSTALL | BUILD | CHECK | BUILD BIN | ||||||||
| subSeq 1.20.0 (landing page) Andrew J. Bass
| malbec1 | Linux (Ubuntu 18.04.5 LTS) / x86_64 | OK | OK | OK | |||||||||
| tokay1 | Windows Server 2012 R2 Standard / x64 | OK | OK | OK | OK | |||||||||
| merida1 | macOS 10.14.6 Mojave / x86_64 | OK | OK | OK | OK | |||||||||
| Package: subSeq |
| Version: 1.20.0 |
| Command: /Library/Frameworks/R.framework/Versions/Current/Resources/bin/R CMD build --keep-empty-dirs --no-resave-data subSeq |
| StartedAt: 2021-05-05 22:28:56 -0400 (Wed, 05 May 2021) |
| EndedAt: 2021-05-05 22:29:53 -0400 (Wed, 05 May 2021) |
| EllapsedTime: 56.6 seconds |
| RetCode: 0 |
| Status: OK |
| PackageFile: subSeq_1.20.0.tar.gz |
| PackageFileSize: 2.909 MiB |
############################################################################## ############################################################################## ### ### Running command: ### ### /Library/Frameworks/R.framework/Versions/Current/Resources/bin/R CMD build --keep-empty-dirs --no-resave-data subSeq ### ############################################################################## ############################################################################## * checking for file ‘subSeq/DESCRIPTION’ ... OK * preparing ‘subSeq’: * checking DESCRIPTION meta-information ... OK * installing the package to build vignettes * creating vignettes ... OK * checking for LF line-endings in source and make files and shell scripts * checking for empty or unneeded directories * looking to see if a ‘data/datalist’ file should be added * building ‘subSeq_1.20.0.tar.gz’