| Back to Multiple platform build/check report for BioC 3.12 |
|
This page was generated on 2021-05-06 12:33:51 -0400 (Thu, 06 May 2021).
|
To the developers/maintainers of the structToolbox package: Please make sure to use the following settings in order to reproduce any error or warning you see on this page. |
| Package 1809/1974 | Hostname | OS / Arch | INSTALL | BUILD | CHECK | BUILD BIN | ||||||||
| structToolbox 1.2.0 (landing page) Gavin Rhys Lloyd
| malbec1 | Linux (Ubuntu 18.04.5 LTS) / x86_64 | OK | OK | OK | |||||||||
| tokay1 | Windows Server 2012 R2 Standard / x64 | OK | OK | OK | OK | |||||||||
| merida1 | macOS 10.14.6 Mojave / x86_64 | OK | OK | OK | OK | |||||||||
| Package: structToolbox |
| Version: 1.2.0 |
| Command: C:\cygwin\bin\curl.exe -O http://172.29.0.3/BBS/3.12/bioc/src/contrib/structToolbox_1.2.0.tar.gz && rm -rf structToolbox.buildbin-libdir && mkdir structToolbox.buildbin-libdir && C:\Users\biocbuild\bbs-3.12-bioc\R\bin\R.exe CMD INSTALL --merge-multiarch --build --library=structToolbox.buildbin-libdir structToolbox_1.2.0.tar.gz && C:\Users\biocbuild\bbs-3.12-bioc\R\bin\R.exe CMD INSTALL structToolbox_1.2.0.zip && rm structToolbox_1.2.0.tar.gz structToolbox_1.2.0.zip |
| StartedAt: 2021-05-05 17:45:20 -0400 (Wed, 05 May 2021) |
| EndedAt: 2021-05-05 17:46:28 -0400 (Wed, 05 May 2021) |
| EllapsedTime: 68.7 seconds |
| RetCode: 0 |
| Status: OK |
##############################################################################
##############################################################################
###
### Running command:
###
### C:\cygwin\bin\curl.exe -O http://172.29.0.3/BBS/3.12/bioc/src/contrib/structToolbox_1.2.0.tar.gz && rm -rf structToolbox.buildbin-libdir && mkdir structToolbox.buildbin-libdir && C:\Users\biocbuild\bbs-3.12-bioc\R\bin\R.exe CMD INSTALL --merge-multiarch --build --library=structToolbox.buildbin-libdir structToolbox_1.2.0.tar.gz && C:\Users\biocbuild\bbs-3.12-bioc\R\bin\R.exe CMD INSTALL structToolbox_1.2.0.zip && rm structToolbox_1.2.0.tar.gz structToolbox_1.2.0.zip
###
##############################################################################
##############################################################################
% Total % Received % Xferd Average Speed Time Time Time Current
Dload Upload Total Spent Left Speed
0 0 0 0 0 0 0 0 --:--:-- --:--:-- --:--:-- 0
13 2766k 13 381k 0 0 14.7M 0 --:--:-- --:--:-- --:--:-- 14.9M
100 2766k 100 2766k 0 0 45.4M 0 --:--:-- --:--:-- --:--:-- 45.7M
install for i386
* installing *source* package 'structToolbox' ...
** using staged installation
** R
** byte-compile and prepare package for lazy loading
** help
*** installing help indices
converting help for package 'structToolbox'
finding HTML links ... done
ANOVA html
AUC html
DFA html
DatasetExperiment_boxplot html
DatasetExperiment_dist html
DatasetExperiment_factor_boxplot html
DatasetExperiment_heatmap html
HCA html
HSD html
HSDEM html
MTBLS79_DatasetExperiment html
PCA html
PLSDA html
PLSR html
SVM html
as_data_frame html
autoscale html
balanced_accuracy html
blank_filter html
blank_filter_hist html
bootstrap html
calculate html
chart_plot html
classical_lsq html
compare_dist html
confounders_clsq html
confounders_lsq_barchart html
confounders_lsq_boxplot html
constant_sum_norm html
corr_coef html
dfa_scores_plot html
dratio_filter html
feature_boxplot html
feature_profile html
filter_by_name html
filter_na_count html
filter_smeta html
fisher_exact html
fold_change html
fold_change_int html
fold_change_plot html
forward_selection_by_rank html
fs_line html
glog_opt_plot html
glog_transform html
grid_search_1d html
gs_line html
hca_dendrogram html
kfold_xval html
kfoldxcv_grid html
kfoldxcv_metric html
knn_impute html
kw_p_hist html
kw_rank_sum html
linear_model html
log_transform html
mean_centre html
mean_of_medians html
mixed_effect html
model_apply html
model_predict html
model_reverse html
model_train html
mv_boxplot html
mv_feature_filter html
mv_feature_filter_hist html
mv_histogram html
mv_sample_filter html
mv_sample_filter_hist html
nroot_transform html
pairs_filter html
pareto_scale html
pca_biplot html
pca_correlation_plot html
pca_dstat_plot html
pca_loadings_plot html
pca_scores_plot html
pca_scree_plot html
permutation_test html
permutation_test_plot html
permute_sample_order html
plsda_predicted_plot html
plsda_regcoeff_plot html
plsda_roc_plot html
plsda_scores_plot html
plsda_vip_plot html
plsr_cook_dist html
plsr_prediction_plot html
plsr_qq_plot html
plsr_residual_hist html
pqn_norm html
pqn_norm_hist html
prop_na html
r_squared html
rsd_filter html
rsd_filter_hist html
run html
sb_corr html
split_data html
stratified_split html
structToolbox html
svm_plot_2d html
tSNE html
tSNE_scatter html
ttest html
vec_norm html
wilcox_p_hist html
wilcox_test html
** building package indices
** installing vignettes
** testing if installed package can be loaded from temporary location
** testing if installed package can be loaded from final location
** testing if installed package keeps a record of temporary installation path
install for x64
* installing *source* package 'structToolbox' ...
** testing if installed package can be loaded
* MD5 sums
packaged installation of 'structToolbox' as structToolbox_1.2.0.zip
* DONE (structToolbox)
* installing to library 'C:/Users/biocbuild/bbs-3.12-bioc/R/library'
package 'structToolbox' successfully unpacked and MD5 sums checked